BEGIN:VCALENDAR
VERSION:2.0
PRODID:-//InvisionCommunity Events 5.0.14//EN
METHOD:PUBLISH
CALSCALE:GREGORIAN
REFRESH-INTERVAL:PT15M
X-PUBLISHED-TTL:PT15M
X-WR-CALNAME:Москва
NAME:Москва
BEGIN:VTIMEZONE
TZID:Europe/London
TZURL:https://tzurl.org/zoneinfo/Europe/London
X-LIC-LOCATION:Europe/London
BEGIN:DAYLIGHT
TZOFFSETFROM:+0000
TZOFFSETTO:+0100
TZNAME:BST
DTSTART:20230326T020000Z
RRULE:FREQ=YEARLY;BYMONTH=3;BYDAY=-1SU
END:DAYLIGHT
BEGIN:STANDARD
TZOFFSETFROM:+0100
TZOFFSETTO:+0000
TZNAME:GMT
DTSTART:20231029T020000Z
RRULE:FREQ=YEARLY;BYMONTH=10;BYDAY=-1SU
END:STANDARD
END:VTIMEZONE
BEGIN:VEVENT
SUMMARY:\"МУКИ ТВОРЧЕСТВА\" Театр Кирилл
	а Ганина
DTSTAMP:20230320T005505Z
SEQUENCE:0
UID:635-2-96ae6e7a6b0199acdc71fa09e19bd6b5@swing-cafe.ru
ORGANIZER;CN="Театр Кирилла Ганина":forum@
	swing-cafe.ru
DESCRIPTION:\n	\"МУКИ ТВОРЧЕСТВ
	А\" пьеса Василия Прыгунова \
	n\n	29 марта\, среда в 20:00 \n\n	Теа
	тр Кирилла Ганина \n\n	 
	\n\n	\"МУКИ ТВОРЧЕС
	ТВА\" - это оч
	ень веселая 
	и крайне ра
	звратная п
	остановка 
	Театра Кир
	илла Ганин
	а\, по пьесе и
	звестного порног
	рафического писат
	еля Василия Прыгун
	ова. \n\n	 \n\n	В спек
	такле звучат
	 стихи Влади
	мира Маяковск
	ого \n\n	Роль
	 Владимира
	 Маяковского
	 исполняет актер
	 театра и скандально
	 известный поэт - СЕР
	ГЕЙ ЕФРЕМОВ. \n\n	 
	\n\n	Двадцатые год
	ы прошлого век
	а. Серебряный 
	век поэзии в Р
	оссии. В это вр
	емя появляются
	 такие гиганты ли
	тературы\, как Ес
	енин\, Маяковский
	\, Александр Чёр
	ный\, Анна Ахм
	атова и многие
	 другие. В стране
	 полным ходом и
	дет сексуальная 
	революция\, НЭП
	\, и в культуре 
	появляются таки
	е течения\, как абстрак
	ционизм\, футуризм и 
	Соц Реализм. \n\n	 
	\n\n	Наша истор
	ия рассказ
	ывает о нек
	оторых момен
	тах из жизни и 
	творчества Вла
	димира Маяковского
	. Как все мы знаем\, о
	н был влюблен в Лилю
	 Брик. А по ее идеи 
	- чем больше поэ
	т страдает\, тем
	 лучше пишет ст
	ихи. Она и придер
	живалась этого
	 правила\, старая
	сь \"выжимать\" и
	з поэта максим
	ум творчества
	. Как она сама го
	ворила: это она
	 пишет стихи рука
	ми Владимира. А чт
	о же Маяковский? Он 
	писал\, любил и стра
	да. И снова писа
	л\, писал и писа
	л. А вокруг него 
	Лиля устраивала сек
	суальные оргии\, голые
	 парады...\"ДОЛОЙ СТЫ
	Д!\" - Лозунг той
	 эпохи. И то
	лько Маяковскому н
	е доставалось ничего 
	от сексуальных свобод! \n\n	 \n
	\n	ВНИМАНИЕ!!! СТРОГО 18+
	 \n\n	 \n\n	Спектакль игра
	ется в расширенном составе! \
	n\n	 \n\n	ЖДЕМ ВСЕХ!!! \n\n	 
	\n\n	Спектакль 
	пройдет в 
	самом необы
	чном и комфортаб
	ельном месте. Ую
	тная атмосфера эл
	итного клуба \"7
	е НЕБО\". Удоб
	ная рассадка\
	, позволяющая у
	видеть спектак
	ль в мельчайши
	х подробностях. 
	VIP балкон над
	 сценой. Пр
	иятное ра
	знообразие
	 напитков\, заво
	раживающий кальян и 
	неповторимое действие
	 на сцене. \n\n	 \n\n	ВН
	ИМАНИЕ!!! Актеры на сцене п
	олностью обнажаются! \n\n	 \n\n	С
	ТРОГО 18+ \n\n	 \n\n	ЦЕНА БИЛЕТОВ: \n\n
		 \n\n	1 - Билет 1500 рублей 
	- данный билет \"с
	тихийная посад
	ка\". То есть\, д
	ержатель да
	нного биле
	та занимает люб
	ое свободное место\, за
	 исключением забронированных.
	 \n\n	 \n\n	2 - Билет 2000 рубле
	й \"резерв\" - да
	нный билет 
	можно купит
	ь только по 
	предоплате.
	 Бронь билет
	а производи
	тся по телефо
	ну театра. Данный 
	билет бронирует за вами кон
	кретное место в зале. \n\n	 \n\n
		3 - Билет 3000 рублей \"д
	епозит\" - данны
	й билет\, так же
	 приобретается
	 по предоплате
	. Помимо брони 
	места за вами\, 
	билет дает возможн
	ость заказать еду 
	и напитки на сумму 
	в 1500р. по меню заведения бе
	з дополнительных оплат. \n
	\n	 \n\n	4 - \"Студенческий\" и 
	\"член приватного сообщ
	ества\" - 1000руб. \n\n	
	Данный билет 
	продается на 
	входе в театр 
	в день провед
	ения спектакля. Д
	ает право на вх
	од и занять лю
	бое свободное 
	место. \n\n	Обязате
	льно подтверждение
	 одной из категорий 
	на входе. \n\n	 \n\n	Забронирова
	ть билет можно по телефону: +
	7 926-817-8341 \n\n	или на странице спектакля ВК 
	https://vk.com/mykitvorschestva\n\n	 \n\n	Спекта
	кль состоится в лофте \
	"7е НЕБО\". \n\n	Наш адрес: Ти
	хорецкий бульвар\, дом 12\, кор.1. м. Любли
	но \n\n	https://tihii.ru/\n\n	 \n\n	Начало в 20:
	00 \n\n	ВНИМАНИЕ!!! СТРОГО 18+ \n\n	 \n
	\n	- Страница спектакля : \n\n	https://vk.com/mykit
	vorschestva\n\n	- Официальный сайт театра: www.
	teatrganina.ru \n\n	- Приватное сообщество театр
	а: https://vk.com/ganinteatrerotic\n\n	- ВК: https://vk.com/https://vk.
	com/ganinteatr\n\n	- Телеграм: https://t.me/TeatrGanina @teatrgan
	ina \n\n	- WhatsApp +7 926-817-8341 (в день мероприя
	тия отключен)\n\n\n
DTSTART:20230329T170000Z
DTEND:20230329T200000Z
END:VEVENT
END:VCALENDAR
