BEGIN:VCALENDAR
VERSION:2.0
PRODID:-//InvisionCommunity Events 5.0.14//EN
METHOD:PUBLISH
CALSCALE:GREGORIAN
REFRESH-INTERVAL:PT15M
X-PUBLISHED-TTL:PT15M
X-WR-CALNAME:Москва
NAME:Москва
BEGIN:VTIMEZONE
TZID:Europe/London
TZURL:https://tzurl.org/zoneinfo/Europe/London
X-LIC-LOCATION:Europe/London
BEGIN:DAYLIGHT
TZOFFSETFROM:+0000
TZOFFSETTO:+0100
TZNAME:BST
DTSTART:20230326T020000Z
RRULE:FREQ=YEARLY;BYMONTH=3;BYDAY=-1SU
END:DAYLIGHT
BEGIN:STANDARD
TZOFFSETFROM:+0100
TZOFFSETTO:+0000
TZNAME:GMT
DTSTART:20231029T020000Z
RRULE:FREQ=YEARLY;BYMONTH=10;BYDAY=-1SU
END:STANDARD
END:VTIMEZONE
BEGIN:VEVENT
SUMMARY:\"ДЕВСТВЕННИЦА\" Театр Кирилла Г
	анина
DTSTAMP:20230303T215038Z
SEQUENCE:0
UID:620-2-96ae6e7a6b0199acdc71fa09e19bd6b5@swing-cafe.ru
ORGANIZER;CN="Театр Кирилла Ганина":forum@
	swing-cafe.ru
DESCRIPTION:\n	\"ДЕВСТВЕННИЦА
	\" Театр Кирилла Ганина
	\n\n	пьеса Василия Прыгунова\n
	\n	\n\n	Театр Кирилла Ганина\n\n	15 ма
	рта\, среда в 20:00\n\n	\n\n	М
	истическая\, 
	эротическая
	 и\, одновремен
	но\, комическ
	ая постано
	вка Театра
	 Кирилла Га
	нина\, по пь
	есе изве
	стного по
	рнографи
	ческого писател
	я Василия Прыгунова \"
	Девственница для Че
	рнокнижника\".\n\n
		\n\n	Маг и чер
	нокнижник
	 АлександЕр В
	альдемарович пр
	остой блогер - эк
	страсенс. Зараба
	тывает\, как мож
	ет. И вот однажды
	. В прямом эфире 
	он обещает вызва
	ть демона. Обещал
	 - надо выполнять. Н
	о как это сделать.
	 Ведь он не настоящи
	й маг\, а всего лиш
	ь блогер. Но дела
	ть что-то надо. А ч
	то бы провести ри
	туал - нужна девс
	твенница. А где е
	е в наши дни вз
	ять? Вот и нач
	инаются трудн
	ые поиски. За в
	сем этим набл
	юдает одна ег
	о фанатка. У ко
	торой есть св
	ои корыстные
	 планы на маг
	а АлександЕр
	а. И она любым
	и путями стар
	ается привлеч
	ь его внимание
	 к своей персоне
	. Ведь она прост
	о мечтает быть р
	ядом с магом и 
	отдать ему с
	вою любовь и
	 похоть. Но 
	маг озадачен 
	только поиском 
	девственницы дл
	я ритуала вызова
	 демона. Но\, как 
	мы знаем\, влюб
	ленная женщи
	на может горы св
	ернуть. И она гот
	ова стать той са
	мой девственницей
	... Но что же случи
	тся\, если ритуа
	л провести не по всем пра
	вилам. Ведь демонов не быв
	ает? Или...\n\n	\n\n	Прих
	одите на спектак
	ль\, и вы узнает
	е что произош
	ло с магом и
	 его фанатко
	й. Удалось л
	и девушке завоевать 
	сердце АлександЕра. И су
	ществуют ли демоны.\n\n	\n\n	ВНИ
	МАНИЕ!!! СТРОГО 18+\n\n	\n\
	n	Спектакль играется в расшире
	нном составе!\n\n	\n\n	ЖДЕМ ВС
	ЕХ!!!\n\n	\n\n	Спект
	акль пройде
	т в самом н
	еобычном и ко
	мфортабельном ме
	сте. Уютная атмосф
	ера элитного клуб
	а \"7е НЕБО\". Уд
	обная расса
	дка\, позволяющ
	ая увидеть спек
	такль в мельча
	йших подробност
	ях. VIP балкон 
	над сценой.
	 Приятное 
	разнообраз
	ие напитков\, за
	вораживающий кальян 
	и неповторимое действи
	е на сцене.\n\n	\n\n	ВНИМА
	НИЕ!!! Актеры на сцене полностью 
	обнажаются!\n\n	\n\n	СТРОГО 18+\n\n	\n\n	Ц
	ЕНА БИЛЕТОВ:\n\n	\n\n	1 - Биле
	т 1500 рублей - данный 
	билет \"стихийна
	я посадка\". То
	 есть\, держат
	ель данного
	 билета заним
	ает любое свободное мес
	то\, за исключением заброниро
	ванных.\n\n	\n\n	2 - Билет 2000 
	рублей \"резерв\"
	 - данный бил
	ет можно ку
	пить только 
	по предоплат
	е. Бронь бил
	ета произво
	дится по тел
	ефону театра. Дан
	ный билет бронирует за вам
	и конкретное место в зале.\n\n	\n
	\n	3 - Билет 3000 рублей \"
	депозит\" - данн
	ый билет\, так 
	же приобретает
	ся по предопла
	те. Помимо брон
	и места за вами
	\, билет дает возмож
	ность заказать еду
	 и напитки на сумму 
	в 1500р. по меню заведения б
	ез дополнительных опл
	ат.\n\n	\n\n	4 - Для чле
	нов приватного соо
	бщества цена биле
	та на \"стихийную по
	садку\" 1000руб. Обязат
	ельно подтверждени
	е на входе.\n\n	\n\n	Забронироват
	ь билет можно по телефону: +7 
	926-817-8341\n\n	или на странице спектакля вк htt
	ps://vk.com/devstvennitsa_tkg\n\n	\n\n	Спектакл
	ь состоится в лофте \"7е 
	НЕБО\".\n\n	Наш адрес: Тихорецк
	ий бульвар\, дом 12\, кор.1. м. Люблино\n\n	http
	s://tihii.ru/\n\n	\n\n	Начало в 20:00\n\n	ВНИМАНИЕ!!!
	 СТРОГО 18+\n\n	\n\n	- Страница спектакля :\n\n	htt
	ps://vk.com/devstvennitsa_tkg\n\n	- Официальный сайт
	 театра: www.teatrganina.ru\n\n	- Приватн
	ое сообщество театра: https://vk.com/ganinteatreroti
	c\n\n	- ВК: https://vk.com/https://vk.com/ganinteatr\n\n	- Тел
	еграм: https://t.me/TeatrGanina\n\n	- WhatsApp +7 926-817-83
	41 (в день мероприятия отключен)\n\n
DTSTART:20230315T170000Z
DTEND:20230315T200000Z
END:VEVENT
END:VCALENDAR
