BEGIN:VCALENDAR
VERSION:2.0
PRODID:-//InvisionCommunity Events 5.0.14//EN
METHOD:PUBLISH
CALSCALE:GREGORIAN
REFRESH-INTERVAL:PT15M
X-PUBLISHED-TTL:PT15M
X-WR-CALNAME:Календарь событий свингер-клуба &quot;ТОРТУГА&quot;
NAME:Календарь событий свингер-клуба &quot;ТОРТУГА&quot;
BEGIN:VTIMEZONE
TZID:Europe/London
TZURL:https://tzurl.org/zoneinfo/Europe/London
X-LIC-LOCATION:Europe/London
BEGIN:DAYLIGHT
TZOFFSETFROM:+0000
TZOFFSETTO:+0100
TZNAME:BST
DTSTART:20190331T020000Z
RRULE:FREQ=YEARLY;BYMONTH=3;BYDAY=-1SU
END:DAYLIGHT
BEGIN:STANDARD
TZOFFSETFROM:+0100
TZOFFSETTO:+0000
TZNAME:GMT
DTSTART:20191027T020000Z
RRULE:FREQ=YEARLY;BYMONTH=10;BYDAY=-1SU
END:STANDARD
END:VTIMEZONE
BEGIN:VEVENT
SUMMARY:СЕКСУЧИЛКА
DTSTAMP:20190924T170045Z
SEQUENCE:0
UID:62-8-96ae6e7a6b0199acdc71fa09e19bd6b5@swing-cafe.ru
ORGANIZER;CN="AlexBest":forum@swing-cafe.ru
DESCRIPTION:\n\n	В Субботу 05.10.2019 с 23:30 до 05:00 \n\n
		«Swing- Club TORTUGA» приглашает в
	сех на вечеринку\n\n\n\n	«Секс
	УЧилКА»\n\n\n\n	Стоимость участия
	:  \n\n\n\n	М – 5000₽\,  МЖ – 2
	000₽\,  Ж – БЕСПЛАТН
	О! \n\n	Взнос за участи
	е только при входе\
	, никаких предоплат!\
	n\n	А так же у нас дей
	ствуют АКЦИИ!!! Не забыва
	йте об этом (условия ниже)
	\n\n\n\n	Век живи\, век учись
	...И ведь не поспориш
	ь!!! А тем более в
	 День Учител
	я. И каждый в это
	т осенний день вспо
	минает своих препода
	вателей. А мы в TORTU
	GE предлагаем\
	, этой ночью 
	устроить бо
	льшую переме
	ну и расслабит
	ься в экстазе. 
	Пройтись по н
	ашим классам 
	ласки и развра
	та. И в конце собрат
	ься на СексСовет 
	в «учительской»
	 школы TORTUGA для 
	получения о
	чередного нез
	абываемого орг
	азма. Ведь у нас 
	всегда есть чему 
	поучиться\, на чт
	о посмотреть\, ко
	го показать и .
	..наказать. Поэ
	тому сегодня 
	все к нам гр
	ызть гранит 
	сексуальных на
	ук. Не забываем
	 своё хорошее на
	строение\, потом
	у что у нас Вы буд
	ете чувствовать
	 себя\, как дома 
	в компании все
	х своих\, в непри
	нуждённой обстано
	вке\, большой и уют
	ной сауне\, где ва
	с ждет: фуршет\, 
	океан позитива 
	и море удовольс
	твия\, соляная комнат
	а\, русский бильярд\, б
	ольшой бассейн 4*6\, 
	парилка 3 уровня на
	 12 человек с венич
	ками и нашим банщи
	ком\, караоке\, дис
	котека\, большая ко
	мната для генга\, д
	ва привата\, ночная 
	кухня (просто\, вк
	усно\, сами готовя
	т\, если кто-то с
	ильно проголод
	ается)\, неболь
	шой и не дорог
	ой барчик (если вдру
	г не хватит того алкоголя 
	что принесли с собой).\n\n\n
	\n	В программе: \n\n\
	n\n	Интеракт
	ивная шоу
	-программ
	а с элем
	ентами 
	эротики
	 от сногс
	шибатель
	ной и обво
	рожительно
	й танцовщиц
	ы Озорной вед
	ущий не даст 
	вам заскучать
	. Весёлые и с
	ексуальные к
	онкурсы\, ко
	торые разбуд
	ят в Вас сам
	ые сокров
	енные жела
	ния и бурные 
	фантазии\, розыгрыши з
	апоминающихся  призов (ски
	дки на вход 50% и 100%)\n\n\n
	\n	Главное пра
	вило Свинг встреч: в
	сё только по симпатии
	 и взаимному согласию!\
	n\n\n\n	ЕСЛИ ВЫ НЕ РЕШИЛ
	И ГДЕ ПРОВЕСТИ ЭТУ 
	НОЧЬ\, ПРОВЕДИТЕ ЕЁ С
	 НАМИ\, БУДЕТ ВЕСЕЛО И ВОЛШЕ
	БНО!!! \n\n	Место проведения: VIP
	 сауна - в 450 м. от м.Чистые
	 пруды \n\n\n\n\n		БИ 
	отношения 
	между парня
	ми на встречах з
	апрещены! Для этого
	 существуют вечеринки
	 БИ формата! \n	\n	\n	
		СТРОГО ЗАПР
	ЕЩЕНО: - лю
	бые фина
	нсовые пр
	едложения 
	и принужд
	ение между
	 гостями ин
	тимного хар
	актера. Дан
	ный факт от
	слеживает
	ся! Приноси
	ть и упот
	реблять 
	на террит
	ории саун
	ы любые н
	аркотичес
	кие и нарко
	содержащие вещества
	. Нарушители покидают
	 встречу и вносятся в
	 ЧС.\n	\n	\n		Курить можно то
	лько в специально о
	тведённой зоне .\n	\n	\n
			Парковка вдоль дор
	оги рядом с клубом п
	осле 00.00 бесплатн
	ая\, а кто хочет
	 поставить авто
	 на территории Клуб
	а (есть несколько мест) 200₽ ночь о
	храннику сауны!. \n	\n	\n		Dre
	ss-code: красивое белье\, эротиче
	ские костюмы\, банный вид!«Swi
	ng- Club TORTUGA» за без
	опасный С
	ЕКС и приз
	ывает поль
	зоваться средств
	ами личной гигиены 
	и контрацепцией (ест
	ь в наличии) \n	\n	\
	n		Обязательный Фэйс-ко
	нтроль: славянская в
	нешность (фото на Whats
	App\, решение за 
	организатор
	ами)\, не до
	пускаются ли
	ца в состоянии алк
	огольного или нар
	котического опьяне
	ния! \n	\n	\n		Так же дей
	ствуют возрастные
	 ограничение 21 – 
	41\, просьба отнестись с
	 пониманием\, средн
	ий возраст гостей 30 - 35!
	 На усмотрение орг
	анизаторов!\n	\n	
	\n		На встречах всегд
	а присутствует орга
	низаторы и охрана.\n	\
	n	\n		Полотенца и та
	почки можно взять с со
	бой\, либо приобрести у н
	ас (комплект 300₽)   \n	\n\
	n\n	Напоминаем: Пара
	 есть пара!!! Если 
	один из партнер
	ов пары\, пришед
	шей на встречу уходит\
	, то второй партнер уходит вм
	есте с ним!\n\n\n\n	ВНИМАНИЕ АК
	ЦИИ!!! \n\n\n\n\n		«СВО
	Й АЛКОГОЛЬ» – на вс
	тречу можно прийти со с
	воим алкоголем!\n	\n	\n
			«МОЛОДЕЖКА» - ски
	дка 1000₽ действует 
	для молодых людей\, че
	й возраст не больше 3
	0 лет и для пар скидка
	 500₽\, если каждому
	 из пары нет 30 лет!(под
	тверждение возраста по любому до
	кументу)\n	\n\n\n	Наш сайт: https://tortug.ru\n\n\
	n\n	Наши группы:\n\n	https://vk.com/swingclubtortuga\n\n	https:/
	/swinglife.ru/node/1647190\n\n	https://swing-kiska.ru/viewugroup_1564\n\n	
	https://facebook.com/swingclub.tortuga\n\n	https://instagram.com/swing_clu
	b_tortuga\n\n
DTSTART:20191005T203000Z
DTEND:20191006T020000Z
END:VEVENT
END:VCALENDAR
