BEGIN:VCALENDAR
VERSION:2.0
PRODID:-//InvisionCommunity Events 5.0.14//EN
METHOD:PUBLISH
CALSCALE:GREGORIAN
REFRESH-INTERVAL:PT15M
X-PUBLISHED-TTL:PT15M
X-WR-CALNAME:Москва
NAME:Москва
BEGIN:VTIMEZONE
TZID:Europe/London
TZURL:https://tzurl.org/zoneinfo/Europe/London
X-LIC-LOCATION:Europe/London
BEGIN:DAYLIGHT
TZOFFSETFROM:+0000
TZOFFSETTO:+0100
TZNAME:BST
DTSTART:20230326T020000Z
RRULE:FREQ=YEARLY;BYMONTH=3;BYDAY=-1SU
END:DAYLIGHT
BEGIN:STANDARD
TZOFFSETFROM:+0100
TZOFFSETTO:+0000
TZNAME:GMT
DTSTART:20231029T020000Z
RRULE:FREQ=YEARLY;BYMONTH=10;BYDAY=-1SU
END:STANDARD
END:VTIMEZONE
BEGIN:VEVENT
SUMMARY:\"ПОСЛЕ ТРАХАЧЁВА\" Театр Кирилл
	а Ганина
DTSTAMP:20230121T162208Z
SEQUENCE:0
UID:588-2-96ae6e7a6b0199acdc71fa09e19bd6b5@swing-cafe.ru
ORGANIZER;CN="Театр Кирилла Ганина":forum@
	swing-cafe.ru
DESCRIPTION:\n	ПОСЛЕ ТРАХАЧЁВА\
	n\n	пьеса Алексея Филатова\n\n	1 фе
	враля\, 20:00 (среда)\n\n	\n\
	n	Веселая\, зажиг
	ательная комеди
	я \"без трусов\
	" от Театра 
	Кирилла Га
	нина. Не з
	ависимое продолже
	ние истории про Гос
	подина Трахачёва и е
	го кошек.\n\n	\n\n	Трах
	ачёв сбежал из
	 страны с одной
	 из девушек. А 
	вторая получила
	 свободу. Вроде бы в
	се хорошо. Каждый 
	получил то\, что хо
	тел. НО... Вторая
	 девушка начинает
	 понимать\, что ей 
	очень не хватает 
	господина\, его шо
	у\, ее подруги и в
	ообще\, той атмос
	феры. Ведь Трахачё
	в любил их. Пусть
	 странно и необыч
	но\, но любил. И о
	на пытается най
	ти своего господи
	на\, пишет письма\,
	 звонит. Но Тра
	хачёв пропал. Н
	а связь не вых
	одит. Что бы 
	заполнить 
	пустоту в д
	уше\,девушк
	а сама станов
	ится подобие
	м господина св
	оего. Начинает
	 вести свой блог
	\, дрессировать к
	лиентов\, оказы
	вая им услуги гос
	пожи. Но это ей ни
	как не может замен
	ить того\, чего о
	на лишилась. И вот однажд
	ы\, ей пришло письмо из Амстерд
	ама...\n\n	\n\n	Ждем всех всех вс
	ех!!!\n\n	\n\n	Спект
	акль пройде
	т в самом н
	еобычном и ко
	мфортабельном ме
	сте. Уютная атмосф
	ера элитного клуб
	а \"7е НЕБО\". Уд
	обная расса
	дка\, позволяющ
	ая увидеть спек
	такль в мельча
	йших подробност
	ях. VIP балкон 
	над сценой.
	 Приятное 
	разнообраз
	ие напитков\, за
	вораживающий кальян 
	и неповторимое действи
	е на сцене.\n\n	\n\n	ВНИМА
	НИЕ!!! Актеры на сцене полностью 
	обнажаются!\n\n	\n\n	СТРОГО 18+\n\n	\n\n	
	- Страница спектакля :\n\n	https://vk.com/posle
	trahashova\n\n	- Официальный сайт театра: www
	.teatrganina.ru\n\n	- Приватное сообщество театр
	а: https://vk.com/ganinteatrerotic\n\n	\n\n	Театр в соц
	. сетях:\n\n	- ВК: https://vk.com/https://vk.com/ganinteat
	r\n\n	- Телеграм: https://t.me/TeatrGanina\n\n	- ОК: https://o
	k.ru/teatrganina\n\n	- WhatsApp +7 926-817-8341 (в д
	ень мероприятия отключен)\n\n	\n\n	
	ЦЕНА БИЛЕТОВ:\n\n	\n\n	1 - Бил
	ет 1500 рублей - данный
	 билет \"стихийна
	я посадка\". То
	 есть\, держат
	ель данного
	 билета заним
	ает любое свободное мес
	то\, за исключением заброниро
	ванных.\n\n	\n\n	2 - Билет 2000 
	рублей \"резерв\"
	 - данный бил
	ет можно ку
	пить только 
	по предоплат
	е. Бронь бил
	ета произво
	дится по тел
	ефону театр
	а. Данный 
	билет брон
	ирует за вами конкр
	етное место максимально пр
	иближенное к сцене.\n\n	\n\n	3 -
	 Билет 3000 рублей \"де
	позит\" - данный 
	билет\, так же п
	риобретается 
	по предоплате
	. Помимо брони 
	места за вами\, 
	билет дает возможн
	ость заказать еду 
	и напитки на сумму в
	 1500р. по меню заведения бе
	з дополнительных опла
	т.\n\n	\n\n	4 - Для член
	ов приватного сооб
	щества цена билет
	а на \"стихийную поса
	дку\" 1000руб. Обязатель
	но подтверждение на
	 входе.\n\n	\n\n	Забронировать билет
	 можно по телефону: +7 926-817-834
	1\n\n	или на странице спектакля вк https://vk.com
	/posletrahashova\n\n	\n\n	Спектакль состои
	тся в лофте \"7е НЕБО\".\n\n	
	Наш адрес: Тихорецкий бульвар\, дом
	 12\, кор.1. м. Люблино\n\n	https://tihii.ru/\n\n	\n\n	Н
	ачало в 20:00\n\n	ВНИМАНИЕ!!! СТРОГО 18+\n\n	\n\n	 \n
	\n\n
DTSTART:20230201T170000Z
DTEND:20230201T200000Z
END:VEVENT
END:VCALENDAR
