BEGIN:VCALENDAR
VERSION:2.0
PRODID:-//InvisionCommunity Events 5.0.14//EN
METHOD:PUBLISH
CALSCALE:GREGORIAN
REFRESH-INTERVAL:PT15M
X-PUBLISHED-TTL:PT15M
X-WR-CALNAME:Санкт-Петербург
NAME:Санкт-Петербург
BEGIN:VTIMEZONE
TZID:Europe/London
TZURL:https://tzurl.org/zoneinfo/Europe/London
X-LIC-LOCATION:Europe/London
BEGIN:DAYLIGHT
TZOFFSETFROM:+0000
TZOFFSETTO:+0100
TZNAME:BST
DTSTART:20190331T020000Z
RRULE:FREQ=YEARLY;BYMONTH=3;BYDAY=-1SU
END:DAYLIGHT
BEGIN:STANDARD
TZOFFSETFROM:+0100
TZOFFSETTO:+0000
TZNAME:GMT
DTSTART:20191027T020000Z
RRULE:FREQ=YEARLY;BYMONTH=10;BYDAY=-1SU
END:STANDARD
END:VTIMEZONE
BEGIN:VEVENT
SUMMARY:ДЕНЬ РОЖД
	ЕНИЯ клуба Фортуна !
	 Приглашаем на ночную вечеринку в клуб 
	ЛЕОН с AQUA и SPA зонами !
DTSTAMP:20190809T130408Z
SEQUENCE:0
UID:56-3-96ae6e7a6b0199acdc71fa09e19bd6b5@swing-cafe.ru
ORGANIZER;CN="Фортуна":forum@swing-cafe.ru
DESCRIPTION:\n	Дорогие друзья! 
	\n\n	16 Августа мы рад
	ы видеть всех Вас на \n\n	
	ДНЕ РОЖДЕНИЯ КЛУБА ФОРТ
	УНА !!! \n\n	 \n\n	Приглаша
	ем Вас в шикарный клуб \"ЛЕОН
	\" с БЕСПЛАТНЫМИ AQUA и SPA зона
	ми ! \n\n	Уже 13 лет мы работа
	ем для ВАС ! \n\n\n	Мы жде
	м своих Друзей\,
	 \n\n	Постоянных Г
	остей\, Всех Л
	юбителей Наст
	оящего Клубног
	о \n\n	Отдыха н
	а торжествен
	ное празднование \n
	\n	ТРИНАДЦАТОГО Дн
	я Рождения нашего
	 Клуба! \n\n\n	Это будет
	 САМАЯ зажигательн
	ая вечеринка\, \n\n
	\n	В этот день вс
	ех гостей ждет
	 праздничная атмосфер
	а\, \n\n	разнообразные сюр
	призы и презенты! \n\n	 \n\n	П
	очему клуб ЛЕОН ??? \n\
	n	Фишка в том\, что
	 с часу ночи для нас
	 начинает работать
	 \n\n	двухуровневый VIP к
	омплекс\, ДОПЛАЧИВА
	ТЬ ЗА НЕГО НЕ НУЖНО ! \n
	\n	в него есть прямой
	 переход из клуба. \n\n
		Это будет наша аква и 
	приват зона. \n\n	Для вас ш
	икарный \n\n	-бассейн \n\n	-ХА
	МАМ \n\n	-парилка \n\n	
	-приват комнаты \n\n
		-гостиная с билья
	рдом и камином. \n\n
		Таким образом тусим и
	 веселимся и в клубе\
	, и в сауне\, \n\n	официа
	нты и бар будут обслуж
	ивать нас и там и там 
	! \n\n\n	Только этой ночь
	ю мы откроем для Вас дв
	ери в новый мир\, \
	n\n	полный удово
	льствий\, \n\n	голо
	вокружительны
	х звуков и незабываемы
	х ощущений! \n\n\n	Обязательно бр
	онирование: +79119277419 \n\n
	\n	Для нас незабывае
	мая ночь\, в шикарном 
	заведении\, \n\n	с 
	безупречным об
	служиванием\, \n\
	n	параллельно в 
	режиме приватов
	 или просто отд
	охнуть \n\n	от танцев
	 и плясок для нас 
	работает двухуровневый \
	n\n	vip комплекс с прозрачн
	ыми полами !!! \n\n\n	
	Самые красивые\, 
	самые эротичные и
	 развратные пары\,
	 \n\n	мужчины и 
	женщины нашего 
	города (и конечн
	о гости нашей кул
	ьтурной столицы) \n\n	с
	оберутся в эту ночь
	 в нашем клубе ! \n\n\
	n	Самая гламурная в
	едущая Питера\, \n\n	пр
	офессиональная фотом
	одель Playboy \n\n	бу
	дет с нами всю но
	чь и подготовит 
	специальную шоу прогр
	амму\, \n\n	о которой 
	мы расскажем чуть
	 позже. \n\n\n	Традици
	онно мы будем рад
	ы видеть всех наших 
	старых и \n\n	потен
	циальных друзей\, пары
	\, а так же свободных му
	жчин и женщин. \n\n\n	Ад
	рес ул. Бабушкина 91
	 Ресторан ЛЕОН ( 
	левый вход) \n\n	кл
	уб полностью закроется
	 для нашей компании. \
	n\n	Начало в 21.00. Гуляем 
	до последнего посе
	тителя ! \n\n\n	Всю 
	ночь будут звуч
	ать любимые треки 
	от модных диджеев\, \
	n\n	Великолепная шо
	у-программа\, \n
	\n	а аква-прив
	ат зона будет ж
	дать особо любвиоб
	ильных посетителей клуба. \
	n\n	Аква зона это: \n\n	Хамам\, \n
	\n	сауна\, \n\n	бассейн\, \n\n	бил
	ьярд. \n\n	Работать она буде
	т с 01.00 \n\n\n	Новички:
	 пары\, одиноки
	е мужчины и ж
	енщины допуск
	аются \n\n	только 
	после прохождения 
	фейс/контроля и вне
	сения 100 % предо
	платы. \n\n	Прино
	сить свои спир
	тные напитки катего
	рически запрещено. \n\n\n	
	Стоимость участия: \n\n	Пара 
	-2500 руб. по предоплате 3000 р. н
	а месте \n\n	Мужчина - 3000 р. п
	о предоплате 3500 на месте. 
	\n\n	Женщины - бесплатно. \n
	\n	 \n\n	Предоплата приним
	ается до 15.08 включитель
	но. \n\n\n	Деньги можно перевести 
	на \n\n	карту сбербанка 4276 5500 4744 
	0287 \n\n	(мобильный сбербанк +7911
	9277419) \n\n\n	После перевода денег
	 позвоните по телефону +7(911)9
	27-7419\, \n\n	назовите сум
	му\, каким способом 
	и когда она отправлена\
	, \n\n	Ваш ник или им
	ена для записи
	. \n\n	На входе пре
	доплаты прини
	маются ИСКЛЮЧИ
	ТЕЛЬНО по списку\, 
	\n\n	сформированно
	му на основании В
	аших звонков. \n\n
		Так же обязательно 
	сохраните чек\, мо
	бильного чека\, 
	скрин шот. \n\n	В ден
	ь вечеринки предо
	плата не принимае
	тся ! \n\n	Если Вы
	 не можете прийти 
	на вечеринку и п
	редупредили нас
	 об этом накану
	не\, \n\n	Ваша пред
	оплата перено
	сится на следу
	ющее мероприяти
	е. \n\n	В противн
	ом случае предоп
	лата не переносится и
	 не возвращается. \n\n\n
		Обязательно: \n\n	
	-Для новичков анке
	та с фото\, или фото(с
	сылка на страницу в соцсети
	) на е-мейл \n\n	-фейс/контроль
	 \n\n	-100 % предоплата для
	 новичков. \n\n\n	Записа
	ться можно на форуме\, \n\n	прислат
	ь заявку на fortuna-sw@mail.ru \n\n	или по теле
	фонам: \n\n	8-965-0232396 Дмитрий \n\n	+7(911)
	927-7419 Дарья (мобильный/WhatsАpp/Vi
	ber) \n\n\n	Вступайте в нашу НОВУЮ группу ВК 
	\nhttps://vk.com/fortuna9277419\n\n\n	Добавляйтесь в ча
	ты WhatsАpp и Viber\n\n\n\n\n\n
DTSTART:20190816T180000Z
END:VEVENT
END:VCALENDAR
