BEGIN:VCALENDAR
VERSION:2.0
PRODID:-//InvisionCommunity Events 5.0.14//EN
METHOD:PUBLISH
CALSCALE:GREGORIAN
REFRESH-INTERVAL:PT15M
X-PUBLISHED-TTL:PT15M
X-WR-CALNAME:Москва
NAME:Москва
BEGIN:VTIMEZONE
TZID:Europe/London
TZURL:https://tzurl.org/zoneinfo/Europe/London
X-LIC-LOCATION:Europe/London
BEGIN:DAYLIGHT
TZOFFSETFROM:+0000
TZOFFSETTO:+0100
TZNAME:BST
DTSTART:20190331T020000Z
RRULE:FREQ=YEARLY;BYMONTH=3;BYDAY=-1SU
END:DAYLIGHT
BEGIN:STANDARD
TZOFFSETFROM:+0100
TZOFFSETTO:+0000
TZNAME:GMT
DTSTART:20191027T020000Z
RRULE:FREQ=YEARLY;BYMONTH=10;BYDAY=-1SU
END:STANDARD
END:VTIMEZONE
BEGIN:VEVENT
SUMMARY:Megaswing. 10 августа\, с 18 до 23. SAUNA-CLU
	B PARTY! НОВОЕ МЕСТО!
DTSTAMP:20190805T035217Z
SEQUENCE:0
UID:53-2-96ae6e7a6b0199acdc71fa09e19bd6b5@swing-cafe.ru
ORGANIZER;CN="megaswingers":forum@swing-cafe.ru
DESCRIPTION:\n\n	\n\n\n	Всем привет\, д
	рузья! Клуб «Me
	gaswing» провод
	ит самые 
	разные м
	ероприят
	ия в раз
	личных м
	естах. П
	риглашае
	м в НОВОЕ МЕСТО 
	всех ценителей качестве
	нного эротического отдыха
	!\n\n\n\n	\n\n\n\n	Вечеринка 
	пройдёт в сауне кл
	убно-гостиничного тип
	а (м. Люблино\, ул. Верхни
	е Поля. 10 минут от метро).\nСуббот
	а 10 августа\, с 18 до 23 ча
	сов.\n\n\n\n	Приг
	лашаем вс
	ех желающи
	х раскрепощё
	нных и искушё
	нных людей на
	 классную ве
	черинку в ую
	тную сауну
	! На наших вс
	тречах и в
	ечеринках 
	собираются
	 обычно инт
	еллигентные
	 люди\, желающие 
	отдохнуть в э
	ротическом и 
	сексуальном 
	формате.\n\n	На
	ши гости предпо
	читают совершенно разные
	 форматы – мжм\, жмж\, свин
	г\, генг бенг.\n\n\n\n
		Дорогие дру
	зья\, мы пр
	едлагаем 
	разнообр
	азить свою
	 жизнь весё
	лым общени
	ем и взаим
	одействие
	м с единомышл
	енниками! Если
	 вам надоела с
	ерость повседне
	вной жизни\, то 
	вам нужно на нашу 
	вечеринку за драй
	вом\, сексом и ад
	реналином!\n\n	В 
	нашей компании
	 много новичко
	в – это молоды
	е пары\, парни 
	и девушки. Они бы
	стро адаптируютс
	я и чувствуют себя
	 как дома.\n\n	Все
	 наши гости п
	роходят фейск
	онтроль\, поэтому в
	ы не увидите у нас некрас
	ивых и не опрятных людей.
	\n\n\n\n	В сауне: \n- общ
	ий зал со свет
	омузыкой\, телев
	изором\, удобными д
	иванчиками и столами 
	(некурящий зал)\;\n\n	- бил
	ьярдный зал (курящий зал)\
	;\n\n	- комната отдыха с
	 большим диваном
	\;\n\n	- финская парил
	очка по оригинальной ф
	инской технологии!\n\n	- прохла
	дная купель\;\n\n	- бар.\n\n\n\n	Вз
	нос за участие:\nПары – 15
	00 руб\;\nПарни – 5000 руб\;\n
	Девушки – бесплатно.\n\n
	\n\n	В стоимость вклю
	чено:\n\n	- мини фу
	ршет из беза
	лкогольных 
	напитков и 
	закусок\, а также 
	алкогольных напитков
	 в ограниченном количестве\
	;\n\n	- контрацепция\;\n\n	- хлорге
	ксидин\;\n\n	- масло для масс
	ажа.\n\n\n\n	Также в сау
	не есть своё ме
	ню\, можно заказать что
	-то на ваше усмотрение
	 из спиртного и еды.
	\n\n\n\n	Этот вече
	р создан дл
	я воплощени
	я ваших эро
	тических сам
	ых тайных же
	ланий! Возь
	мите с собой хор
	ошее настроение и 
	вам обеспечен замечательный 
	вечер!\n\n\n\n	Запись по телефону:\n\n	+7
	 (916) 483-09-82\nДмитрий.\nЗаписывайтесь пожа
	луйста заранее!\n\n
DTSTART:20190810T150000Z
DTEND:20190810T200000Z
END:VEVENT
END:VCALENDAR
