BEGIN:VCALENDAR
VERSION:2.0
PRODID:-//InvisionCommunity Events 5.0.14//EN
METHOD:PUBLISH
CALSCALE:GREGORIAN
REFRESH-INTERVAL:PT15M
X-PUBLISHED-TTL:PT15M
X-WR-CALNAME:Москва
NAME:Москва
BEGIN:VTIMEZONE
TZID:Europe/London
TZURL:https://tzurl.org/zoneinfo/Europe/London
X-LIC-LOCATION:Europe/London
BEGIN:DAYLIGHT
TZOFFSETFROM:+0000
TZOFFSETTO:+0100
TZNAME:BST
DTSTART:20220327T020000Z
RRULE:FREQ=YEARLY;BYMONTH=3;BYDAY=-1SU
END:DAYLIGHT
BEGIN:STANDARD
TZOFFSETFROM:+0100
TZOFFSETTO:+0000
TZNAME:GMT
DTSTART:20221030T020000Z
RRULE:FREQ=YEARLY;BYMONTH=10;BYDAY=-1SU
END:STANDARD
END:VTIMEZONE
BEGIN:VEVENT
SUMMARY:Swinger-Club TORTUGA \"Пилотная серия. 3-
	й сезон!!!\"
DTSTAMP:20220706T134608Z
SEQUENCE:0
UID:439-2-96ae6e7a6b0199acdc71fa09e19bd6b5@swing-cafe.ru
ORGANIZER;CN="den.tortuga":forum@swing-cafe.ru
DESCRIPTION:\n	Привет! В пятницу 15 Ию
	ля с 17:00 до 10:00 Приглашаем
	 Вас на Свинг Вечеринк
	у!\n\n\n\n	Этой встречей мы
	 открываем новый сезо
	н!\n\n\n\n	Половина лета поза
	ди\, надо взять его ча
	стичку с собой.\n\n\n\n	Пригл
	ашаем вас в загородный дом.\n
	\n\n\n	Для Вас:\n\n\n\n	·        
	 Два этажа\;\n\n\n\n	·        
	 Три привата\;\n\n\n\n	·      
	   Парная на 8 человек\;
	\n\n\n\n	·         Как всег
	да\, удивим Вас чем-нибуд
	ь вкусненьким\;\n\n\n\n	o    
	Будет плов от Дена\, кто 
	был у нас\, знает\;\n\n\n\n
		·         Алкоголь
	 можно приносить свой
	\;\n\n\n\n	·         А самое глав
	ное\, душевное настроение\;\n\
	n\n\n	 \n\n\n\n	Для ценителе
	й Свинга\, Генг-Бенга\, Группо
	вого секса\, Оральных ласк.\n
	\n\n\n	 \n\n\n\n	Мы Свинг П
	ара МЖ Пригла
	шаем пары\, од
	иноких деву
	шек и парней.
	 Которые це
	нят развратн
	ый секс. Пред
	лагаем провес
	ти вечер в пр
	иятной компании\, о
	тдохнуть душой и телом. В
	озраст участников от 30 до
	 50 лет.\n\n\n\n	Знакомимся
	\, общаемся\, выпиваем\, шалим\
	, развратничаем.\n\n\n\n	 \n\n\n\n	
	Основные правила:
	\n\n\n\n	- СТРОГО запрещено
	 употребление нарко
	тических веществ!!!\n\
	n\n\n	- СТРОГО запр
	ещено проносит
	ь любое оружие\,
	 на входе будет контро
	ль\, просим отнестись к 
	этому с пониманием!!!\n\n\n\n	-
	 запрещены фото/виде
	о съёмка.\n\n\n\n	-
	 приходить в сильно
	м алкогольном или наркотич
	еском опьянении!!!\n\n\n\n	
	ВАЖНО\n\n\n\n	Вс
	ю информацию и ад
	рес высылаем пос
	ле предварительно
	го общения.\n\n\n\n	Будьте готов
	ы предоставить Ваше фото.\n\n\n\n
		 \n\n\n\n	 \n\n\n\n	Не забудь подписаться:\n\n\n\n	h
	ttps://www.swinglife.ru/node/1647190 - Мы на СвингЛайф!\n\n\
	n\n	https://m.vk.com/swingclubtortuga - Наш
	а Официальная Группа в Контакте!\n\n\n\n	ht
	tps://t.me/Tortuga_CLUB_18 Чат Телеграмм\n\n\n\
	n	 \n\n\n\n	Взнос за участие:\n\n\n\n	Для
	 одинокого М – 3000 р.\n\n\n\n	Пара МЖ
	 - 2000 р.\n\n\n\n	Девушки – Бесплатно\n\n\n\n	
	 \n\n\n\n	Наш сайт: https://tortug.ru\n\n\n\n	 \n\n\n\n	З
	апись:\n\n\n\n	Телеграм - https://t.me/SwClubTortuga\n\n\n\n	
	Whatsapp - +7 999 573 02 15\n\n\n\n	Телефон - +7 999 573 02 15\
	n\n
DTSTART:20220715T140000Z
DTEND:20220716T070000Z
END:VEVENT
END:VCALENDAR
