BEGIN:VCALENDAR
VERSION:2.0
PRODID:-//InvisionCommunity Events 5.0.14//EN
METHOD:PUBLISH
CALSCALE:GREGORIAN
REFRESH-INTERVAL:PT15M
X-PUBLISHED-TTL:PT15M
X-WR-CALNAME:Москва
NAME:Москва
BEGIN:VTIMEZONE
TZID:Europe/London
TZURL:https://tzurl.org/zoneinfo/Europe/London
X-LIC-LOCATION:Europe/London
BEGIN:DAYLIGHT
TZOFFSETFROM:+0000
TZOFFSETTO:+0100
TZNAME:BST
DTSTART:20220327T020000Z
RRULE:FREQ=YEARLY;BYMONTH=3;BYDAY=-1SU
END:DAYLIGHT
BEGIN:STANDARD
TZOFFSETFROM:+0100
TZOFFSETTO:+0000
TZNAME:GMT
DTSTART:20221030T020000Z
RRULE:FREQ=YEARLY;BYMONTH=10;BYDAY=-1SU
END:STANDARD
END:VTIMEZONE
BEGIN:VEVENT
SUMMARY:\"ФРЕЙД\" Театр Кирилла Ганина
DTSTAMP:20220221T191309Z
SEQUENCE:0
UID:355-2-96ae6e7a6b0199acdc71fa09e19bd6b5@swing-cafe.ru
ORGANIZER;CN="Театр Кирилла Ганина":forum@
	swing-cafe.ru
DESCRIPTION:\n	 \n\n\n\n	Кон
	цептуальн
	ый театр Кир
	илла Ганина
	 представляет са
	мую необычную\, эротич
	ескую\, иммерсивную пьесу \"ФРЕЙД\
	"\n\n	2 марта (среда) в 20:00.\n
	\n\n	Самый спор
	ный\, сканд
	альный и 
	сексуальн
	о развратн
	ый психоло
	г Зигмунд 
	Фрейд оста
	вил большое 
	наследие в сф
	ере сексуального ра
	звития человека. Ин
	тересно\, а Фрейд был
	 прав?\n\n\n	Одной 
	молодой деву
	шке\, после л
	ишения девс
	твенности ве
	сь мир кажется 
	другим. Все ста
	ло воспринима
	ться не так как 
	обычно. И она бол
	ьше не может за
	ниматься сексом
	\, хотя секс её окр
	ужает\, и всюду ме
	рещатся намеки н
	а секс. Что же е
	й делать? И тог
	да она решае
	тся пойти к
	 психологу. 
	Известный п
	сихолог\, р
	одственник
	 знаменитог
	о Зигмунда Фр
	ейда\, пытае
	тся разобр
	аться в при
	чинах и проб
	лемах девуш
	ки и находит
	 весьма рад
	икальный спо
	соб лечения\, 
	основываясь н
	а работах сво
	его великого п
	радеда. И с э
	того момент
	а\, девушка по
	гружается в 
	омут сексуа
	льных фантази
	й и приключений\,
	 что вдруг ста
	ли неожиданно сбывать
	ся\, причем\, в самом неожи
	данном варианте.\n\n\n	
	\"ФРЕЙД\" - это\, на
	верно одна и
	з самых отк
	ровенных\, веселы
	х и необычных пос
	тановок Театра К
	ирилла Ганина.\n\
	n\n	Спектакль про
	йдет в самом необ
	ычном месте\, рас
	полагающему\, к
	о всему\, о чем гов
	орил Фрейд. Уютна
	я атмосфера элитн
	ого клуба \"7е НЕБ
	О\". Удобная 
	рассадка\, 
	позволяюща
	я увидеть сп
	ектакль в мель
	чайших подроб
	ностях. Вип б
	алкон над сце
	ной. Вкусная
	 кухня\, при
	ятное раз
	нообразие 
	напитков\, з
	авораживающий 
	кальян и неповторимо
	е действие на сцене. Жде
	м вас 2 марта в 20:00 в с
	тенах элитного кл
	уба \"7е НЕБО\" на спекта
	кль Театра Кирилла 
	Ганина \"ФРЕЙД\".\
	n\n\n	Спектакл
	ь проводитс
	я с соблюден
	ием всех сани
	тарных норм. Ре
	комендуем маск
	и и перчатки и
	меть при себ
	е. При вход
	е в зал вам 
	предложат обр
	аботать руки а
	нтисептическими ср
	едствами. Так же\, к
	ак и при выходе н
	а сцену\, для те
	х\, кто желае
	т принять у
	частие в ин
	терактиве.
	 Перед спе
	ктаклем з
	ал обраба
	тывается. Теа
	тр Кирилла Ганин
	а гарантирует безо
	пасность каждого г
	остя!\n\n\n	ВНИМАНИЕ!!! 
	Актеры на сцене полность
	ю обнажаются!\n\n\n	СТРОГО 18+\n\n	-
	 страница спектакля в ВК: https://vk.c
	om/freud_tkg\n\n	- Официальный сайт театра: www
	.teatrganina.ru\n\n	- Приватное сообщество театр
	а: https://vk.com/ganinteatrerotic\n\n\n	Театр в соц. с
	етях:\n\n	- ВК: https://vk.com/ganiteatr\n\n	- ФБ: https:https://
	www.facebook.com/ganinteatr\n\n	- Телеграм: https://t.me/TeatrGan
	ina\n\n	- Инстаграм: https://www.instagram.com/teatrganin
	a/\n\n\n	ЦЕНА БИЛЕТОВ:\n\n	1 - Би
	лет 1500 рублей - данны
	й билет \"стихий
	ная посадка\".
	 То есть\, держ
	атель данно
	го билета з
	анимает любое своб
	одное место\, за исключе
	нием забронированных.\n\n
		2 - Билет 700 рублей 
	\"студенческий
	\" - этот бил
	ет можно
	 приобрест
	и только по 
	предъявлению 
	действующего ст
	уденческого билета. По п
	осадке - так же\, свободные мест
	а.\n\n	3 - Билет 2000 рублей
	 \"резерв\" - дан
	ный билет мо
	жно купить 
	только по п
	редоплате. 
	Бронь билет
	а производи
	тся по телеф
	ону театра.
	 Данный би
	лет бронируе
	т за вами конкретн
	ое место максимально при
	ближенное к сцене.\n\n	4 - Бил
	ет 3000 рублей \"депоз
	ит\" - данный бил
	ет\, так же прио
	бретается по 
	предоплате. П
	омимо брони ме
	ста за вами\, биле
	т дает возможность
	 заказать еду и на
	питки на сумму в 1500р.
	 по меню заведения
	 без дополнительны
	х оплат.\n\n	5 - Для
	 членов приватног
	о сообщества цена билет
	а на \"стихийную посадку
	\" 1000руб.\n\n\n	Забронировать билет 
	можно по телефону: +7 926-817-
	8341\n\n\n	Спектакль состоится
	 в Элитном клубе \"7е НЕБО\"
	.\n\n	Наш адрес: Тихорецкий бульвар
	\, дом 12\, кор.1. м. Люблино\nhttps://swclub-7sky.ru
	\n\n\n	Начало в 20:00\n\n	ВНИМАНИЕ!!! СТРОГО 18+\n\n
DTSTART:20220302T170000Z
DTEND:20220302T200000Z
END:VEVENT
END:VCALENDAR
