BEGIN:VCALENDAR
VERSION:2.0
PRODID:-//InvisionCommunity Events 5.0.14//EN
METHOD:PUBLISH
CALSCALE:GREGORIAN
REFRESH-INTERVAL:PT15M
X-PUBLISHED-TTL:PT15M
X-WR-CALNAME:Москва
NAME:Москва
BEGIN:VTIMEZONE
TZID:Europe/London
TZURL:https://tzurl.org/zoneinfo/Europe/London
X-LIC-LOCATION:Europe/London
BEGIN:DAYLIGHT
TZOFFSETFROM:+0000
TZOFFSETTO:+0100
TZNAME:BST
DTSTART:20180325T020000Z
RRULE:FREQ=YEARLY;BYMONTH=3;BYDAY=-1SU
END:DAYLIGHT
BEGIN:STANDARD
TZOFFSETFROM:+0100
TZOFFSETTO:+0000
TZNAME:GMT
DTSTART:20181028T020000Z
RRULE:FREQ=YEARLY;BYMONTH=10;BYDAY=-1SU
END:STANDARD
END:VTIMEZONE
BEGIN:VEVENT
SUMMARY:Слегка НЕ замужем!
DTSTAMP:20180325T120948Z
SEQUENCE:0
UID:35-2-96ae6e7a6b0199acdc71fa09e19bd6b5@swing-cafe.ru
ORGANIZER;CN="Swinger Cafe":forum@swing-cafe.ru
DESCRIPTION:\n\n	Москва-ЦЕНТ
	Р! Слегка НЕ за
	мужем! Вечеринки по среда
	м в сауне свингер-клубе В
	иктория\n\n\n\n	\n\n\n	Приг
	лашаем Вас на БАН
	НЫЙ ДЕНЬ по средам\n
	\n	Отдохните у нас
	 и проверьте своё в
	езение\n\n	Ваше сча
	стье только в В
	аших руках\n\n	Приятн
	ого отдыха и новых знак
	омств и впечатлений\n\n\n\n	Ждём вас 
	в гости с 19:00 до 23:00\n\n\n\n	На
	 наших банных вечерин
	ках для Вас:\n\n\n\n\n	
		жаркая дружелюбная
	 атмосфера и весёлое
	 застолье\n	\n	\n		супе
	р-парилка с ароматер
	апией\, освежающий бассе
	йн\n	\n	\n		вкусный чай со слад
	остями\, и... знойный секс\n	
	\n\n\n	Присоединяйтесь!\n\n\
	n\n	Стоимость участия:
	\n\n	Лотерея клуба \"сч
	астливое имя дня\"\, приш
	едшим первыми\n\n	и Викто
	р(-ия) - скидка 10%! Подробности 
	по телефону\n\n\n\n\n		Пары МЖ - 
	2500руб\n	\n	\n		Постоянные и семе
	йные пары - 2000руб\n	\n	\n		по
	 документам о регистрации бра
	ка\n	\n	\n		Пары МЖ оба ДО 30 лет - 1500р
	уб.\n	\n	\n		Мужчины ДО 30 лет - 3500руб\n	\n
		\n		Мужчины 30-45 лет - 4000руб\n	\n	\n
			Мужчины старше 45 лет - 4500руб\n	\
	n	\n		Женщины - свободно\
	n	\n\n\n	Мы можем поп
	росить у Вас 
	подтверждающ
	ие документы
	\n\n	При отсу
	тствии д
	окументов
	 о возрасте и
	 зарегистри
	рованном бра
	ке оплачивает
	ся полный взн
	ос\n\n	Админи
	страция кл
	уба имеет п
	раво изме
	нять стои
	мость входн
	ого билета 
	и условия 
	посещения в индиви
	дуальном порядке и на специаль
	ные мероприятия\n\n\n\n	\n\n\n	МЕН
	Ю:\n\n\n\n\n		Чайный стол со с
	ладостями включён в стоим
	ость\n	\n	\n		Соки-воды\n	\n	\n
			различные напитки и лёгки
	й алкоголь\n	\n	\n		фрукты-овощи\
	n	\n	\n		десерт\n	\n	\n		р
	азличные лё
	гкие закуски 
	(мясные/сырные нарез
	ки) на свой вкус МО
	ЖНО ПРИНОСИТЬ С СО
	БОЙ\n	\n\n\n	Просим
	 не злоупотреблят
	ь алкоголем при нахожде
	нии у нас в гостях\nДРЕС
	С-КОД:\n\n\n\n\n		Превал
	ирует неглиже и б
	анно-пляжный стиль (бельё\, 
	купальники\, парео\, слан
	цы и т.п.)\n	\n	\n		Эротичес
	кая одежда (пеньюары\, бо
	ди\, чулки\, каблуки) - на 
	Ваше усмотрение\n	\n\
	n\n	Если Вы не вз
	яли свой комплек
	т белья\, можно
	 приобрести н
	апрокат в са
	уне\n\n	полотенце/п
	ростынку/тапочки
	 за дополнительную стоимо
	сть\n\n\n\n	Желаем Вам п
	риятного отдыха!
	\n\n\n\n	ПРЕДВАРИТЕ
	ЛЬНАЯ ЗАПИСЬ ПО Т
	ЕЛЕФОНУ ОБЯЗАТЕЛЬНА Д
	ЛЯ ВСЕХ ГОСТЕЙ!\n\n\n\n	Предварит
	ельная запись (с 14:00 до 22:00) по тел.\n\n\n\n\n	
		+7 965 413 21 11 (для оперативной связи)\n	\n	\n		
	+7 926 706 11 31 (во время вечеринок работ
	ает только WhatsApp)\n	\n\n\n
		Желаете попас
	ть в клуб - зв
	оните и зап
	исывайтесь 
	заблаговремен
	но\n\n	Точную и
	нформацию о
	 работе клуба и усл
	овиях посещения Вы 
	можете получить по т
	елефону\n\n\n\n	Гост
	и\, единожды 
	нарушившие прав
	ила\, в дальнейшем
	 на вечеринки не допускаются\n\n	Спа
	сибо за понимание\n\n
DTSTART:20180328T160000Z
DTEND:20180328T205900Z
RRULE:FREQ=WEEKLY;INTERVAL=4;BYDAY=WE
END:VEVENT
END:VCALENDAR
