BEGIN:VCALENDAR
VERSION:2.0
PRODID:-//InvisionCommunity Events 5.0.14//EN
METHOD:PUBLISH
CALSCALE:GREGORIAN
REFRESH-INTERVAL:PT15M
X-PUBLISHED-TTL:PT15M
X-WR-CALNAME:Москва
NAME:Москва
BEGIN:VTIMEZONE
TZID:Europe/London
TZURL:https://tzurl.org/zoneinfo/Europe/London
X-LIC-LOCATION:Europe/London
BEGIN:DAYLIGHT
TZOFFSETFROM:+0000
TZOFFSETTO:+0100
TZNAME:BST
DTSTART:20220327T020000Z
RRULE:FREQ=YEARLY;BYMONTH=3;BYDAY=-1SU
END:DAYLIGHT
BEGIN:STANDARD
TZOFFSETFROM:+0100
TZOFFSETTO:+0000
TZNAME:GMT
DTSTART:20221030T020000Z
RRULE:FREQ=YEARLY;BYMONTH=10;BYDAY=-1SU
END:STANDARD
END:VTIMEZONE
BEGIN:VEVENT
SUMMARY:\"ИМПРОВИЗАЦИЯ\" Театр Кирилла Г
	анина
DTSTAMP:20220125T002121Z
SEQUENCE:0
UID:329-2-96ae6e7a6b0199acdc71fa09e19bd6b5@swing-cafe.ru
ORGANIZER;CN="Театр Кирилла Ганина":forum@
	swing-cafe.ru
DESCRIPTION:\n	ИМПРОВИЗАЦИЯ\n\n	2 февраля
	 (среда) 20:00\n\n\n\n	Д
	ля профессион
	ального актера 
	сыграть роль н
	е сложно. Есть сц
	енарий\, есть режи
	ссер\, который показ
	ывает где стоять\, ку
	да идти\, что говори
	ть... Но вот что де
	лать\, когда вс
	его этого нет?
	 Остается импро
	визация. А что 
	делать не акте
	рам в обычной 
	жизни? Мы ч
	асто оказыв
	аемся в ситуа
	циях\, когда 
	приходится
	 импровизиро
	вать. Героиня 
	спектакля\, р
	ешила этот в
	опрос радик
	ально и пошл
	а на курсы имп
	ровизации. Во
	т только заня
	тия оказались
	 очень не обычн
	ыми\, Да и преп
	одаватель о
	чень неордин
	арным. Оказало
	сь\, что первы
	м делом сто
	ит избавить
	ся от стесн
	ения\, ра
	скрепости
	ться. Упражн
	ения оказались
	 очень сексуаль
	но откровенными. 
	Но героиня\, вмес
	то того\, что бы
	 отказаться от з
	анятий\, влюбляе
	тся в инструкто
	ра. И вроде бы все 
	хорошо\, но тут 
	вмешивается тет
	я героини\, и в
	стает на ее пут
	и к преподават
	елю. Как же ра
	звернутся собы
	тия? А вот это вы уз
	наете посетив спекта
	кль по пьесе \"ИМПРОВ
	ИЗАЦИЯ\".\n\n\n\n	С
	амая необычн
	ая и весела по
	становка. Безум
	но откровенная
	 и фетишно - сек
	суальная. А са
	мое главное\
	, сюжет совер
	шенно неожи
	данный\, и 
	зрители 
	управляют
	 развитием 
	истории. По
	чувствуйте с
	ебя режиссерами сп
	ектакля. Ведь актер
	ы будут вас слушат
	ься! \n\n\n\n	Спек
	такль прово
	дится с соб
	людением вс
	ех санитарных
	 норм. Рекоменду
	ем маски и пер
	чатки иметь п
	ри себе. При
	 входе в за
	л вам предлож
	ат обработать 
	руки антисептиче
	скими средствами. Та
	к же\, как и при выхо
	де на сцену\, для
	 тех\, кто жел
	ает принять
	 участие в 
	интерактив
	е. Перед сп
	ектаклем
	 зал обра
	батывается
	. Театр Кирилла Га
	нина гарантирует бе
	зопасность каждого г
	остя! \n\n\n\n	ВНИМАНИЕ!!! А
	ктеры на сцене полностью обна
	жаются! \n\n\n\n	СТРОГО 18+ \n\n\n\n	- 
	Официальный сайт театра: www.te
	atrganina.ru \n\n	- Приватное сообщество театра:
	 https://vk.com/ganinteatrerotic\n\n\n\n	Театр в соц. сет
	ях: \n\n	- ВК: https://vk.com/ganiteatr\n\n	- ФБ: https:https://www
	.facebook.com/ganinteatr \n\n	- Телеграм: https://t.me/TeatrGani
	na\n\n	- Инстаграм: https://www.instagram.com/\n\n\n\
	n	ЦЕНА БИЛЕТОВ: \n\n	1 - Би
	лет 1500 рублей - данны
	й билет \"стихий
	ная посадка\".
	 То есть\, держ
	атель данно
	го билета з
	анимает любое своб
	одное место\, за исключе
	нием забронированных. \n\
	n	2 - Билет 700 рублей 
	\"студенческий
	\" - этот бил
	ет можно
	 приобрест
	и только по 
	предъявлению 
	действующего с
	туденческого билета. П
	о посадке - так же\, свободны
	е места. \n\n	3 - Билет 2000
	 рублей \"резерв\
	" - данный бил
	ет можно ку
	пить только 
	по предоплат
	е. Бронь бил
	ета произво
	дится по тел
	ефону театр
	а. Данный 
	билет брон
	ирует за вами конк
	ретное место максималь
	но приближенное к сцене. \n\
	n	4 - Билет 3000 рублей \"д
	епозит\" - данны
	й билет\, так же
	 приобретается
	 по предоплате
	. Помимо брони 
	места за вами\, 
	билет дает возможн
	ость заказать еду 
	и напитки на сумму 
	в 1500р. по меню заведен
	ия без дополнител
	ьных оплат. \n\n	5 -
	 Для членов прива
	тного сообщества цена бил
	ета на \"стихийную посадк
	у\" 1000руб. \n\n\n\n	Забронировать 
	билет можно по телефону:8-926
	-817-83-41 \n\n	Спектакль сост
	оится в клубе \"ВРЕМЯ ЧУ
	ДЕС\" \n\n	Наш адрес г. Мос
	ква\, 1-й Колобовский
	 переулок\, 17 строение 1 Ме
	тро: Цветной бульвар или Трубная. \nhttp
	s://vremjachudes.ru\n\n\n\n	Начало в 20:00 \n\n	ВНИ
	МАНИЕ!!! СТРОГО 18+ \n\n
DTSTART:20220202T170000Z
DTEND:20220202T200000Z
END:VEVENT
END:VCALENDAR
