BEGIN:VCALENDAR
VERSION:2.0
PRODID:-//InvisionCommunity Events 5.0.14//EN
METHOD:PUBLISH
CALSCALE:GREGORIAN
REFRESH-INTERVAL:PT15M
X-PUBLISHED-TTL:PT15M
X-WR-CALNAME:Москва
NAME:Москва
BEGIN:VTIMEZONE
TZID:Europe/London
TZURL:https://tzurl.org/zoneinfo/Europe/London
X-LIC-LOCATION:Europe/London
BEGIN:DAYLIGHT
TZOFFSETFROM:+0000
TZOFFSETTO:+0100
TZNAME:BST
DTSTART:20220327T020000Z
RRULE:FREQ=YEARLY;BYMONTH=3;BYDAY=-1SU
END:DAYLIGHT
BEGIN:STANDARD
TZOFFSETFROM:+0100
TZOFFSETTO:+0000
TZNAME:GMT
DTSTART:20221030T020000Z
RRULE:FREQ=YEARLY;BYMONTH=10;BYDAY=-1SU
END:STANDARD
END:VTIMEZONE
BEGIN:VEVENT
SUMMARY:Мультиформатная СЕКС ВЕЧЕРИНКА!
DTSTAMP:20220124T054016Z
SEQUENCE:0
UID:327-2-96ae6e7a6b0199acdc71fa09e19bd6b5@swing-cafe.ru
ORGANIZER;CN="Nymphoman":forum@swing-cafe.ru
DESCRIPTION:\n	\n\n\n	Всем пр
	ивет! Пригла
	шаем принят
	ь участие в
	 вечеринке\
	, которая 
	объединя
	ет людей р
	азной сексу
	альной орие
	нтации с ра
	зличными ст
	растными жела
	ниями. У нас вы
	 легко осущест
	вите любые св
	ои фантазии\,
	 воплощая их в
	 реальность!
	 Ваши развлеч
	ения могут быть к
	акими угодно - класс
	ический свинг или генг
	-бенг\, пара + парень\, 
	пара + девушка\, деву
	шка + девушка или 
	парень + парен
	ь\, ну и ещё м
	ного интересн
	ых вариантов. 
	Эротические 
	приключения н
	а всю ночь – эт
	о то\, что нуж
	но для каче
	ственного и 
	полноценного 
	отдыха! Рады б
	удем видеть симп
	атичные пары\, п
	арней\, девушек и
	 транссексуалов.\n\nВечер
	инка состоится в четверг 27 ян
	варя\, с 21:00 до 05:00!\n\n	
	Большой тем
	атический ло
	фт на м. Народное
	 ополчение (адр
	ес отправляется зап
	исавшимся)\n\nВ лофт
	е: большой общий 
	зал\, малый зал\
	, приватные комна
	ты\, раздевалка с отд
	ельными шкафчиками\
	, душевые\, бар\, курилка
	.\n\nНа вечеринке нас ожида
	ет:\n\n	- лёгкий фуршет\;
	\n\n	- эротическая шоу
	 программа со стр
	иптизом\;\n\n	- знакомст
	во и общение с новы
	ми интересными людьми\;\n
	\n	- дискотека и танцы до
	 утра\;\n\n	- много секса по
	 взаимной симпатии!\n\nВзносы:\
	n\n	Пары МЖ и МТ – 1500 руб\;\n\n	
	Парни – 4000 руб\;\n\n	Де
	вушки – бесплатно.\
	n\n\n	Фуршет и контр
	ацепция входят в стоимос
	ть.\n\nЗапись на вечеринку по телефону +7 
	(916) 198-15-61. Дмитрий\n\n
DTSTART:20220127T180000Z
END:VEVENT
END:VCALENDAR
