BEGIN:VCALENDAR
VERSION:2.0
PRODID:-//InvisionCommunity Events 5.0.14//EN
METHOD:PUBLISH
CALSCALE:GREGORIAN
REFRESH-INTERVAL:PT15M
X-PUBLISHED-TTL:PT15M
X-WR-CALNAME:Москва
NAME:Москва
BEGIN:VTIMEZONE
TZID:Europe/London
TZURL:https://tzurl.org/zoneinfo/Europe/London
X-LIC-LOCATION:Europe/London
BEGIN:DAYLIGHT
TZOFFSETFROM:+0000
TZOFFSETTO:+0100
TZNAME:BST
DTSTART:20220327T020000Z
RRULE:FREQ=YEARLY;BYMONTH=3;BYDAY=-1SU
END:DAYLIGHT
BEGIN:STANDARD
TZOFFSETFROM:+0100
TZOFFSETTO:+0000
TZNAME:GMT
DTSTART:20221030T020000Z
RRULE:FREQ=YEARLY;BYMONTH=10;BYDAY=-1SU
END:STANDARD
END:VTIMEZONE
BEGIN:VEVENT
SUMMARY:Swinger-Club TORTUGA - \"Райская ночь в Чика
	го!!\"
DTSTAMP:20220119T091628Z
SEQUENCE:0
UID:325-2-96ae6e7a6b0199acdc71fa09e19bd6b5@swing-cafe.ru
ORGANIZER;CN="den.tortuga":forum@swing-cafe.ru
DESCRIPTION:\n	Клуб «ТО
	РТУГА» при
	глашает Ва
	с провести 
	ночь развр
	ата в роскошных 
	интерьерах в элитном
	 банном клубе площадь
	ю более 250 кв.м.\n\n	З
	десь Вас встр
	етят и обслужат п
	о-королевски\, с
	 самым высоким 
	уровнем комфо
	рта.\n\n	Сможете на
	сладится финск
	ой сауной и тур
	ецким хамамом.
	\n\n	Из развлече
	ний доступны 
	русский биль
	ярд\, професс
	иональное кар
	аоке\, танцпол
	. Вас ожидает 
	красочная шоу-пр
	ограмма\, множес
	тво конкурсов и
	 очень много приз
	ов.\n\n	Автомобили можн
	о оставить на пар
	ковке с охраной.\n\
	n\n\n	Наши учас
	тники — доброже
	лательные люди\
	, в основном сост
	оявшиеся пары.\n
	\n	Особо привет
	ствуем новичк
	ов - девушек и
	 мужчин с разными
	 фантазиями и разной степенью 
	\"погруженности в тему\".\n\n
	\n\n	 \n\n\n\n	Приглашаем вас пров
	ести эту ночь с нами!\n\n\n\n	Для 
	вас:\n\n	 элитная сауна 250
	 кв. м\n\n	 большая финская
	 парилка.\n\n	 турецкий
	 хамам.\n\n	 бильярд.\n\n	
	 караоке на большом экр
	ане.\n\n	 стриптиз-шоу.\
	n\n	 теплый бассейн.\n\n	 
	средства контрацепции
	.\n\n	 бар.\n\n	 веселый и 
	зажигательный ведущий.\n\
	n\n\n	Количество мест огранич
	енно!!!\n\n\n\n	Основные
	 правила:\n\n	- СТРО
	ГО запрещено упо
	требление наркот
	ических веществ!!!\
	n\n	- СТРОГО запрещ
	ено проносить л
	юбое оружие\, н
	а входе будет контрол
	ь\, просим отнестись 
	к этому с пониманием!!!\
	n\n	- запрещены фото/
	видео съёмка.\n
	\n	- запреще
	но приходить в силь
	ном алкогольном или на
	ркотическом опьянении!
	!!\n\n\n\n	ВАЖНО\n\n	В
	сю информацию 
	и адрес высыл
	аем после пре
	дварительного общения
	.\n\n	Будьте готовы предост
	авить Ваше фото.\n\n\n\n	Стоимость
	 входа:\n\n	 Мужчины: 4000\n\n	 Пары: 2500
	\n\n	 Девушки: FREE.\n\n	Для записи звон
	ить по телефону: 8 (999) 573-02-15\n\n	Или писать: 
	https://t.me/TortugaChatAdmins_bot\n\n	Будет жарко!
	\n\n\n\n	Также предс
	тавляем вам Телеграм - канал с
	 анонсами мероприятий https://t.me/joinchat/AAAAAEr
	u8_9o05VfVznM8A\n\n	Наш сайт - https://tortug.ru/\
	n\n	Перейти к Событию - https://www.swinglife.ru/node/2015
	180\n\n\n
DTSTART:20220122T200000Z
DTEND:20220123T020000Z
END:VEVENT
END:VCALENDAR
