BEGIN:VCALENDAR
VERSION:2.0
PRODID:-//InvisionCommunity Events 5.0.14//EN
METHOD:PUBLISH
CALSCALE:GREGORIAN
REFRESH-INTERVAL:PT15M
X-PUBLISHED-TTL:PT15M
X-WR-CALNAME:Календарь сообщества
NAME:Календарь сообщества
BEGIN:VTIMEZONE
TZID:Europe/London
TZURL:https://tzurl.org/zoneinfo/Europe/London
X-LIC-LOCATION:Europe/London
BEGIN:DAYLIGHT
TZOFFSETFROM:+0000
TZOFFSETTO:+0100
TZNAME:BST
DTSTART:20170326T020000Z
RRULE:FREQ=YEARLY;BYMONTH=3;BYDAY=-1SU
END:DAYLIGHT
BEGIN:STANDARD
TZOFFSETFROM:+0100
TZOFFSETTO:+0000
TZNAME:GMT
DTSTART:20171029T020000Z
RRULE:FREQ=YEARLY;BYMONTH=10;BYDAY=-1SU
END:STANDARD
END:VTIMEZONE
BEGIN:VEVENT
SUMMARY:Встретимся в кафе?
DTSTAMP:20171121T135617Z
SEQUENCE:0
UID:3-1-96ae6e7a6b0199acdc71fa09e19bd6b5@swing-cafe.ru
ORGANIZER;CN="Александра":forum@swing-cafe.ru
DESCRIPTION:\n\n	Предлаг
	аю завсегдатаям
	 сайта встретиться 
	в кафе в центре\, за ч
	ашкой кофе (как миним
	ум)\, в формате - по
	говорит)) Пишит
	е\, какое кафе в
	ы предпочитаете.
	 Нам удобнее в районе 
	метро Белорусская - там их мн
	ого ) К примеру \n\n\n\n	Кофе Хауз\n\n\n\
	n	Брестская 2-я ул.\, д. 43\n\n\n\n	8-968-792-70-9
	8\n\n\n\n	Белорусская\n\n\n\n	Кругло
	суточно\n\n\n\n	Бесплатный 
	Wi-Fi  и ланч там не до
	рого )) Пишите\, звонит
	е\, будем определяться. Хорошего дня вс
	ем   http://www.coffeehouse.ru/?id_town=24\n\n
DTSTART:20171123T103000Z
DTEND:20171123T130000Z
END:VEVENT
END:VCALENDAR
