BEGIN:VCALENDAR
VERSION:2.0
PRODID:-//InvisionCommunity Events 5.0.14//EN
METHOD:PUBLISH
CALSCALE:GREGORIAN
REFRESH-INTERVAL:PT15M
X-PUBLISHED-TTL:PT15M
X-WR-CALNAME:Москва
NAME:Москва
BEGIN:VTIMEZONE
TZID:Europe/London
TZURL:https://tzurl.org/zoneinfo/Europe/London
X-LIC-LOCATION:Europe/London
BEGIN:DAYLIGHT
TZOFFSETFROM:+0000
TZOFFSETTO:+0100
TZNAME:BST
DTSTART:20220327T020000Z
RRULE:FREQ=YEARLY;BYMONTH=3;BYDAY=-1SU
END:DAYLIGHT
BEGIN:STANDARD
TZOFFSETFROM:+0100
TZOFFSETTO:+0000
TZNAME:GMT
DTSTART:20221030T020000Z
RRULE:FREQ=YEARLY;BYMONTH=10;BYDAY=-1SU
END:STANDARD
END:VTIMEZONE
BEGIN:VEVENT
SUMMARY:\"НЕ ДЕТСКАЯ ЕЛКА 2\" Театр Кирилл
	а Ганина
DTSTAMP:20211212T191910Z
SEQUENCE:0
UID:299-2-96ae6e7a6b0199acdc71fa09e19bd6b5@swing-cafe.ru
ORGANIZER;CN="Театр Кирилла Ганина":forum@
	swing-cafe.ru
DESCRIPTION:\n	НЕ ДЕТСКАЯ ЕЛКА 2\n\n	5 янва
	ря (среда) 20:00\n\n\n	С НОВЫМ ГО
	ДОМ!!! Вот и наступил 
	Новый 2022 год! Буд
	ем надеяться\, чт
	о этот год будет 
	все же лучше пре
	дыдущих! Но как 
	бы то ни было\, 
	предлагаем вс
	третить его ве
	село\, радостно 
	и с хорошим нас
	троением. Ведь как в
	стретишь Новый Год
	 - так его и провед
	ешь!\n\n	А Теа
	тр Кирилла Г
	анина подготови
	л для вас традиционное
	 новогоднее шоу \"НЕ 
	ДЕТСКАЯ ЕЛКА 2\". 
	\n\n\n	Веселые 
	приключен
	ия новогодн
	их персонаже
	й в волшебном 
	времени! Новогод
	ние чудеса и подарк
	и! Море шуток смеха 
	и эротики! Шоу \"НЕ
	 ДЕТСКАЯ ЕЛКА\"
	 - это ОТКРОВЕН
	НЫЙ НОВЫЙ ГОД! Ма
	гия самого светлого
	 праздника в мире не про
	йдет мимо!!!!! С НОВЫМ ГОДОМ
	!!!! Ждем вас к нам в 
	гости!\n\n\n	Спе
	ктакль пров
	одится с со
	блюдением в
	сех санитарны
	х норм. Рекоменд
	уем маски и пе
	рчатки иметь 
	при себе. Пр
	и входе в з
	ал вам предл
	ожат обработа
	ть руки антисепти
	ческими средствами. 
	Так же\, как и при в
	ыходе на сцену\,
	 для тех\, кто 
	желает при
	нять участи
	е в интерак
	тиве. Пере
	д спектак
	лем зал о
	брабатыв
	ается. Театр Кир
	илла Ганина гаран
	тирует безопасност
	ь каждого гостя!\n\n
	\n	ВНИМАНИЕ!!! Актеры на с
	цене полностью обнажаются! \n\
	n	СТРОГО 18+ \n\n\n	ЦЕНА БИЛЕТОВ: 
	\n\n	1 - Билет 1500 рублей - д
	анный билет \"ст
	ихийная посадк
	а\". То есть\, де
	ржатель дан
	ного билет
	а занимает любое 
	свободное место\, за 
	исключением забронирован
	ных. \n\n	2 - Билет 700 ру
	блей \"студенч
	еский\" - это
	т билет 
	можно пр
	иобрести 
	только по п
	редъявлению д
	ействующего сту
	денческого билета. По по
	садке - так же\, свободные места
	. \n\n	3 - Билет 2000 рублей
	 \"резерв\" - дан
	ный билет мо
	жно купить 
	только по п
	редоплате. 
	Бронь билет
	а производи
	тся по телеф
	ону театра.
	 Данный би
	лет брониру
	ет за вами конкрет
	ное место максимально пр
	иближенное к сцене. \n\n	4 -
	 Билет 3000 рублей \"де
	позит\" - данный 
	билет\, так же п
	риобретается 
	по предоплате
	. Помимо брони 
	места за вами\, 
	билет дает возможн
	ость заказать еду 
	и напитки на сумму 
	в 1500р. по меню заведен
	ия без дополнител
	ьных оплат. \n\n	5 -
	 Для членов прива
	тного сообщества цена б
	илета на \"стихийную по
	садку\" 1000руб. \n\n\n	Забронир
	овать билет можно по телефону:8-926-817-83-41\n\
	n	www.teatrganina.ru \n\n	Спектакль сос
	тоится в клубе \"ВРЕМЯ Ч
	УДЕС\"\n\n	Наш адрес г. Мос
	ква\, 1-й Колобовский
	 переулок\, 17 строение 1 Мет
	ро: Цветной бульвар или Трубная.\nhttps:/
	/vremjachudes.ru\n\n\n	Начало в 20:00 \n\n	ВНИМА
	НИЕ!!! СТРОГО 18+ \n\n	Официальная г
	руппа в Вконтакте: https://vk.com/g
	aniteatr \n\n	Официальный сайт театра: w
	ww.teatrganina.ru \n\n	Приватное сообщество теа
	тра: https://vk.com/ganinteatrerotic \n\n
DTSTART:20220105T170000Z
DTEND:20220105T200000Z
END:VEVENT
END:VCALENDAR
