BEGIN:VCALENDAR
VERSION:2.0
PRODID:-//InvisionCommunity Events 5.0.14//EN
METHOD:PUBLISH
CALSCALE:GREGORIAN
REFRESH-INTERVAL:PT15M
X-PUBLISHED-TTL:PT15M
X-WR-CALNAME:Москва
NAME:Москва
BEGIN:VTIMEZONE
TZID:Europe/London
TZURL:https://tzurl.org/zoneinfo/Europe/London
X-LIC-LOCATION:Europe/London
BEGIN:DAYLIGHT
TZOFFSETFROM:+0000
TZOFFSETTO:+0100
TZNAME:BST
DTSTART:20220327T020000Z
RRULE:FREQ=YEARLY;BYMONTH=3;BYDAY=-1SU
END:DAYLIGHT
BEGIN:STANDARD
TZOFFSETFROM:+0100
TZOFFSETTO:+0000
TZNAME:GMT
DTSTART:20221030T020000Z
RRULE:FREQ=YEARLY;BYMONTH=10;BYDAY=-1SU
END:STANDARD
END:VTIMEZONE
BEGIN:VEVENT
SUMMARY:\"ВЕЧЕРИНКА
	 АБСЕНТА\" Бархатное Подполье и 
	Театр Кирилла Ганина
DTSTAMP:20211212T191719Z
SEQUENCE:0
UID:298-2-96ae6e7a6b0199acdc71fa09e19bd6b5@swing-cafe.ru
ORGANIZER;CN="Театр Кирилла Ганина":forum@
	swing-cafe.ru
DESCRIPTION:\n	Об этом никто
	 посторонний не
	 должен знать! 
	\n\n	Самое бог
	емное сообще
	ство Москвы и 
	самый скандальны
	й театра России предствля
	ют \n\n\n	«ВЕЧЕРИНКА АБСЕН
	ТА\" \n\n	3 января 2
	022 года мы пригл
	ашаем продолжи
	ть новогоднее пра
	зднество. Но не прос
	то!.. Изысканно\, пика
	нтно\, красиво и ин
	тригующе! \n\n\n	
	Это вечер ин
	тересных зн
	акомств\, св
	етских бесед
	 и декадентск
	их шалостей. 
	Это возможнос
	ть заявить о себе и
	 быть принятым в 
	Клуб любителей 
	абсента. \n\n\n	А
	 вашими собес
	едниками стан
	ут богемные г
	ерои \"Барха
	тного подп
	олья\" и а
	ктрисы с
	амого от
	кровенного т
	еатра Европы 
	– Концептуального
	 театра Кирилла Ган
	ина. \n\n	Вас ждут п
	оэзия\, музыка\, 
	волнующий шарм 
	женского очаров
	ания\, богемные
	 игры и\, конечн
	о же\, Абсент
	 – легендарный на
	питок богемных худож
	ников\, эстетов и декад
	ентов! \n\n\n	Знаете 
	ли вы\, что абсент -
	 самый крепкий в 
	мире алкогольный
	 напиток? \n\n	Чт
	о долгое врем
	я он был прокл
	ят и запреще
	н во многих стр
	анах из-за сод
	ержания в абсенте 
	особого вещества - т
	уйона\, получаемого 
	из полыни? \n\n	И н
	аконец - что аб
	сент\, чтобы 
	насладиться всей 
	прелестью напитка\
	, нужно пить особым
	 образом? \n\n\n	С
	пециально для
	 вас автор и 
	продюсер фе
	стиваля \"Ба
	рхатное по
	дполье\" В
	ладимир 
	Преображ
	енский п
	ривез из 
	Праги у
	дивител
	ьный «ф
	онтан а
	бсента» 
	— редко
	е приспо
	соблени
	е для пр
	авильного
	 приготовления 
	абсента и проведен
	ия соответствующей цер
	емонии. \n\n\n	И это е
	ще не всё! \n\n	Мы бу
	дем потреблять 
	крафтовый абсент! \n\
	n	Который вы не найдете прос
	то в магазине. \n\n\n	ЦЕНА БИЛЕТ
	ОВ: \n\n\n	1 - Билет 1500 рубл
	ей \"стихийная по
	садка\" - даёт п
	раво входа на
	 мероприятие\, дегуст
	ацию абсента и участие в с
	алонных играх. \n\n\n	2. Би
	лет 2000 рублей \"
	резерв\". Пр
	иобретая б
	илет вы станов
	итесь членом закр
	ытого клуба на вечери
	нке абсента. Билет 20
	00 рублей \"резерв\
	" - данный бил
	ет можно ку
	пить тольк
	о по предопл
	ате. Бронь б
	илета произ
	водится по 
	указанному т
	елефону. Дан
	ный билет даё
	т право входа
	 на мероприятие
	\, дегустацию а
	бсента и участ
	ие в салонных играх\
	, также бронирует за вами с
	идячее место в зале. \n\n\n	2.
	- Билет 3000 рублей \"
	депозит\" - дан
	ный билет\, при
	обретается по
	 предоплате. П
	омимо брони ме
	ста за вами\, биле
	т дает возможность 
	заказать еду и нап
	итки на сумму в 1500 р.
	 по меню заведени
	я без дополнительных оплат. \
	n\n\n	Справки и заказ билетов: \n\n	+7-926-817-83-41
	 \nhttps://vk.com/absinthe_party\n\n\n	Зарег
	истрироваться на событие на Timeped \nhttps://mae
	stro-agency-pr.timepad.ru/event/1865928/\n\n\n	Мер
	оприятие состоится в клу
	бе \"ВРЕМЯ ЧУДЕС\" \n\n	На
	ш адрес г. Москва\, 1-
	й Колобовский пер
	еулок\, 17 строение 1 Метро: Цв
	етной бульвар или Трубная. \nhttps://vremjac
	hudes.ru\n\n\n	Начало - 19.00 \n\n	 \n\n
DTSTART:20220103T160000Z
DTEND:20220103T203000Z
END:VEVENT
END:VCALENDAR
