BEGIN:VCALENDAR
VERSION:2.0
PRODID:-//InvisionCommunity Events 5.0.14//EN
METHOD:PUBLISH
CALSCALE:GREGORIAN
REFRESH-INTERVAL:PT15M
X-PUBLISHED-TTL:PT15M
X-WR-CALNAME:Москва
NAME:Москва
BEGIN:VTIMEZONE
TZID:Europe/London
TZURL:https://tzurl.org/zoneinfo/Europe/London
X-LIC-LOCATION:Europe/London
BEGIN:DAYLIGHT
TZOFFSETFROM:+0000
TZOFFSETTO:+0100
TZNAME:BST
DTSTART:20210328T020000Z
RRULE:FREQ=YEARLY;BYMONTH=3;BYDAY=-1SU
END:DAYLIGHT
BEGIN:STANDARD
TZOFFSETFROM:+0100
TZOFFSETTO:+0000
TZNAME:GMT
DTSTART:20211031T020000Z
RRULE:FREQ=YEARLY;BYMONTH=10;BYDAY=-1SU
END:STANDARD
END:VTIMEZONE
BEGIN:VEVENT
SUMMARY:SWINGER / GANGBANG / BI PARTY IN SAUNA!
DTSTAMP:20210523T212815Z
SEQUENCE:0
UID:176-2-96ae6e7a6b0199acdc71fa09e19bd6b5@swing-cafe.ru
ORGANIZER;CN="Nymphoman":forum@swing-cafe.ru
DESCRIPTION:\n	\n\n\n	Добро 
	пожаловат
	ь на интер
	есную уни
	версальную
	 секс вечери
	нку\, объед
	иняющую сра
	зу нескольк
	о направлен
	ий! Здесь ка
	ждый может 
	воплотить 
	в жизнь св
	ои сексуаль
	ные потребност
	и и желания! П
	риглашаем симпатичны
	е пары\, мужчин\, деву
	шек и транссексуалов
	.\n\n\n\n	Вечеринка п
	ройдёт в сауне н
	а м. Шоссе Энтузиас
	тов (адрес сообщается записавши
	мся)\n\n	Вторник 25 мая\, с 19:00 до 
	0!\n\n\n\n	В сауне: общий за
	л с бильярдом\, рус
	ская парная\, бассе
	йн\, 2 комнаты от
	дыха\, отдельная
	 зона для курения\, х
	ороший выбор алко
	гольных напитков.
	\n\n\n\n	Фуршет и 
	средства 
	контрацепци
	и включены в с
	тоимость. На вечерин
	ке будут бисексуальны
	е пары\, девушки и парни.\n\n
	\n\n	Стоимость участия:\n\n	Па
	ры МЖ и МТ – 1500 руб\n\n	Девуш
	ки и трансы - бесплатно.\n\n	П
	арни – 4000 руб\n\n\n\n	
	Дресс код б
	анный. Мож
	но прийти 
	со своим б
	анным комп
	лектом или в
	оспользоваться 
	комплектом сауны (шлёпанц
	ы\, полотенце\, простыня 
	– 300 руб).\n\n\n\n	Предварительная за
	пись по телефону +7 (916) 198-15-61 (Дмитрий).\n
DTSTART:20210525T160000Z
DTEND:20210525T205900Z
END:VEVENT
END:VCALENDAR
