BEGIN:VCALENDAR
VERSION:2.0
PRODID:-//InvisionCommunity Events 5.0.14//EN
METHOD:PUBLISH
CALSCALE:GREGORIAN
REFRESH-INTERVAL:PT15M
X-PUBLISHED-TTL:PT15M
X-WR-CALNAME:Москва
NAME:Москва
BEGIN:VTIMEZONE
TZID:Europe/London
TZURL:https://tzurl.org/zoneinfo/Europe/London
X-LIC-LOCATION:Europe/London
BEGIN:DAYLIGHT
TZOFFSETFROM:+0000
TZOFFSETTO:+0100
TZNAME:BST
DTSTART:20200329T020000Z
RRULE:FREQ=YEARLY;BYMONTH=3;BYDAY=-1SU
END:DAYLIGHT
BEGIN:STANDARD
TZOFFSETFROM:+0100
TZOFFSETTO:+0000
TZNAME:GMT
DTSTART:20201025T020000Z
RRULE:FREQ=YEARLY;BYMONTH=10;BYDAY=-1SU
END:STANDARD
END:VTIMEZONE
BEGIN:VEVENT
SUMMARY:PASSION NOVEMBER!
DTSTAMP:20201117T225559Z
SEQUENCE:0
UID:140-2-96ae6e7a6b0199acdc71fa09e19bd6b5@swing-cafe.ru
ORGANIZER;CN="Nymphoman":forum@swing-cafe.ru
DESCRIPTION:\n\n	\n\n\n\n	В этот 
	самый хо
	лодный ме
	сяц осени
	 приглаша
	ем всех л
	юбителе
	й эротичес
	ких развле
	чений на на
	шу большу
	ю соблазни
	тельную в
	ечеринку! 
	В нашей д
	ружной ко
	мпании е
	диномышл
	енников вы
	 отвлечёт
	есь от пов
	седневной
	 суеты и п
	очувствует
	е полный спе
	ктр наслаждений. При
	глашаем симпатичные пары
	\, девушек и парней.\n\n\n\n	Пятница 20 н
	оября\, с 22:00 до 05:00!\n\n	Кл
	уб свободного общения «
	О2 (мцк Хорошёво\, м. Полеж
	аевская)\n\n\n\n	В клубе: 
	общий большой зал\,
	 bdsm зал\, приватные
	 комнаты\, отде
	льные ячейки раздевалк
	и\, душевые\, отдельная курил
	ка и бар.\n\n\n\n	Что нас
	 ожидает:\n\n	- 
	интерактивный с
	триптиз от класс
	ных эротических
	 танцовщиц\;\n\n	- вкус
	ный фуршет с прив
	етственными напитками\;
	\n\n	- угарная дискоте
	ка нон стоп\;\n\n	- мно
	го тематически
	х интересных кр
	асивых людей!\
	n\n	- осуществление в
	аших самых сокровен
	ных сексуальных фантазий!\n
	\n\n\n	Стоимость участия:\n\n	Пары – 20
	00 руб\;\n\n	Парни – 6000 руб\;\n\
	n	Девушки – бесплатно.\n\
	n\n\n	Предварительная запись по теле
	фону +7 (916) 198-15-61 (Дмитрий)\n\n\n\n	Наша гр
	уппа vk – https://vk.com/slgsevents\nНаш кана
	л в телеграмме - https://teleg.run/slgsmeetings\
	nТелеграм чат - https://teleg.run/sensualabstraction\n\n\n\n	
	 \n\n\n\n	\n\n
DTSTART:20201120T190000Z
DTEND:20201121T020000Z
END:VEVENT
END:VCALENDAR
