BEGIN:VCALENDAR
VERSION:2.0
PRODID:-//InvisionCommunity Events 5.0.14//EN
METHOD:PUBLISH
CALSCALE:GREGORIAN
REFRESH-INTERVAL:PT15M
X-PUBLISHED-TTL:PT15M
X-WR-CALNAME:Москва
NAME:Москва
BEGIN:VTIMEZONE
TZID:Europe/London
TZURL:https://tzurl.org/zoneinfo/Europe/London
X-LIC-LOCATION:Europe/London
BEGIN:DAYLIGHT
TZOFFSETFROM:+0000
TZOFFSETTO:+0100
TZNAME:BST
DTSTART:20200329T020000Z
RRULE:FREQ=YEARLY;BYMONTH=3;BYDAY=-1SU
END:DAYLIGHT
BEGIN:STANDARD
TZOFFSETFROM:+0100
TZOFFSETTO:+0000
TZNAME:GMT
DTSTART:20201025T020000Z
RRULE:FREQ=YEARLY;BYMONTH=10;BYDAY=-1SU
END:STANDARD
END:VTIMEZONE
BEGIN:VEVENT
SUMMARY:БАБЬЕ ЛЕТО!
DTSTAMP:20200922T223547Z
SEQUENCE:0
UID:128-2-96ae6e7a6b0199acdc71fa09e19bd6b5@swing-cafe.ru
ORGANIZER;CN="Nymphoman":forum@swing-cafe.ru
DESCRIPTION:\n\n	\n\n\n\n	Почти в 
	самом конц
	е сентября
	 мы вас пор
	адуем ново
	й классно
	й вечерин
	кой люби
	телей гр
	уппового 
	секса! Ба
	бье лето
	 характер
	изуется кр
	атковремен
	ным потепле
	нием и приход
	ом солнечных 
	дней. На наши
	х вечеринка
	х всегда жарко
	\, солнечно и 
	восхитительн
	о! Приглашаем 
	симпатичные пар
	ы\, парней и деву
	шек! Обычно так
	ие вечеринки со
	бирают от 70 человек 
	и проходят крайне 
	ярко и незабываемо.\n\n
	\n\n	Вечеринка состоится в пятн
	ицу 25 сентября\, с 22:00 до
	 05:00 утра в клубе своб
	одного общения (мцк Х
	орошёво\, Полежаевская).\n\n\
	n\n	В клубе: общий больш
	ой зал\, bdsm зал\, п
	риватные комн
	аты\, отдельные яче
	йки раздевалки\, ду
	шевые\, отдельная кур
	илка и бар.\n\nЧто н
	ас ожидает в э
	ту ночь:\n- интерак
	тивный стриптиз 
	от эротических танцов
	щиц\;\n\n	- фуршет с пр
	иветственными напитками
	\;\n\n	- улётная дискоте
	ка нон стоп\;\n\n	- мно
	го тематически
	х интересных кр
	асивых людей!\
	n\n	- осуществление в
	аших самых сокровен
	ных сексуальных фантазий!\n
	\n\n\n	Стоимость участия:\n\n	Пары – 20
	00 руб\;\n\n	Парни – 6000 руб\;\n\
	n	Девушки – бесплатно.\n\
	n\n\n	Предварительная запись по теле
	фону +7 (916) 198-15-61 (Дмитрий)\n\n\n\n	ИНТЕРЬЕР 
	КЛУБА\n\n\n\n	\n\n
DTSTART:20200925T190000Z
DTEND:20200926T000000Z
END:VEVENT
END:VCALENDAR
