BEGIN:VCALENDAR
VERSION:2.0
PRODID:-//InvisionCommunity Events 5.0.14//EN
METHOD:PUBLISH
CALSCALE:GREGORIAN
REFRESH-INTERVAL:PT15M
X-PUBLISHED-TTL:PT15M
X-WR-CALNAME:Москва
NAME:Москва
BEGIN:VTIMEZONE
TZID:Europe/London
TZURL:https://tzurl.org/zoneinfo/Europe/London
X-LIC-LOCATION:Europe/London
BEGIN:DAYLIGHT
TZOFFSETFROM:+0000
TZOFFSETTO:+0100
TZNAME:BST
DTSTART:20200329T020000Z
RRULE:FREQ=YEARLY;BYMONTH=3;BYDAY=-1SU
END:DAYLIGHT
BEGIN:STANDARD
TZOFFSETFROM:+0100
TZOFFSETTO:+0000
TZNAME:GMT
DTSTART:20201025T020000Z
RRULE:FREQ=YEARLY;BYMONTH=10;BYDAY=-1SU
END:STANDARD
END:VTIMEZONE
BEGIN:VEVENT
SUMMARY:ОСЕННЯЯ СТРАСТЬ!
DTSTAMP:20200906T213800Z
SEQUENCE:0
UID:123-2-96ae6e7a6b0199acdc71fa09e19bd6b5@swing-cafe.ru
ORGANIZER;CN="Nymphoman":forum@swing-cafe.ru
DESCRIPTION:\n\n	\n\n\n\n	Всем при
	вет! Лето законч
	илось\, большин
	ство из нас вер
	нулось с дач и
	 из отпусков\
	, началась 
	активная ф
	аза жизни 
	города. Пр
	иглашаем
	 на прекр
	асную на
	полненну
	ю новых эр
	отических
	 ощущений 
	и впечатлени
	й сентябрьску
	ю вечеринку! Ра
	ды будем видет
	ь красивые пары\,
	 парней и девушек
	! Такие вечеринки
	 обычно собирают 
	от 70 человек\, а о
	бстановка на н
	их всегда весёла
	я и позитивная.\n\nВечери
	нка состоится в пятницу 11 
	сентября\, с 22:00 до 05:
	00 утра в клубе свободно
	го общения (мцк Хорошё
	во\, Полежаевская).\n\n\n\n	В
	 клубе: общий большо
	й зал\, bdsm зал\, пр
	иватные комна
	ты\, отдельные ячей
	ки раздевалки\, душ
	евые\, отдельная кури
	лка и бар.\n\nЧто на
	с ожидает в эту
	 ночь:\n- интерактив
	ный стриптиз от 
	эротических танцовщиц\
	;\n\n	- фуршет с привет
	ственными напитками\;\n
	\n	- улётная дискоте
	ка нон стоп\;\n\n	- мно
	го тематически
	х интересных кр
	асивых людей!\
	n\n	- осуществление
	 ваших самых с
	окровенных се
	ксуальных фантазий!\n
	\n	- неповторимая эротич
	еская атмосфера!\n\n\n\n	Стоимо
	сть участия:\n\n	Пары – 2000 руб\;
	\n\n	Парни – 6000 руб\;\n\n	Дев
	ушки – бесплатно.\n\n\n\n	Пресс служба
	 проекта SLGS +7 (916) 198-15-61 
	для записи и бронирования
	 мест (звонки ежедневно с 12:00 до
	 0 часов\, whatsapp круглосуточно).\n\n\n\
	n	Наша группа vk – https://vk.com/slgse
	vents\nНаш канал в телеграмме - https://tele
	g.run/slgsmeetings\nТелеграм чат - https://teleg.run/sensualab
	straction\n\n\n\n	ИНТЕРЬЕР КЛУБА\n\n\n\n	\n\n
DTSTART:20200911T190000Z
DTEND:20200910T210000Z
END:VEVENT
END:VCALENDAR
