BEGIN:VCALENDAR
VERSION:2.0
PRODID:-//InvisionCommunity Events 5.0.14//EN
METHOD:PUBLISH
CALSCALE:GREGORIAN
REFRESH-INTERVAL:PT15M
X-PUBLISHED-TTL:PT15M
X-WR-CALNAME:Москва
NAME:Москва
BEGIN:VTIMEZONE
TZID:Europe/London
TZURL:https://tzurl.org/zoneinfo/Europe/London
X-LIC-LOCATION:Europe/London
BEGIN:DAYLIGHT
TZOFFSETFROM:+0000
TZOFFSETTO:+0100
TZNAME:BST
DTSTART:20200329T020000Z
RRULE:FREQ=YEARLY;BYMONTH=3;BYDAY=-1SU
END:DAYLIGHT
BEGIN:STANDARD
TZOFFSETFROM:+0100
TZOFFSETTO:+0000
TZNAME:GMT
DTSTART:20201025T020000Z
RRULE:FREQ=YEARLY;BYMONTH=10;BYDAY=-1SU
END:STANDARD
END:VTIMEZONE
BEGIN:VEVENT
SUMMARY:ДНЕВНОЙ СЕКС ОТРЫВ!
DTSTAMP:20200906T200751Z
SEQUENCE:0
UID:122-2-96ae6e7a6b0199acdc71fa09e19bd6b5@swing-cafe.ru
ORGANIZER;CN="Nymphoman":forum@swing-cafe.ru
DESCRIPTION:\n\n	\n\n\n	Ждём в
	сех любите
	лей и гурма
	нов на восхити
	тельную и полн
	ую эротически
	х ощущений вечер
	инку!\n\n	Рады буд
	ем видеть сим
	патичные мол
	одые пары\, п
	арней и деву
	шек. Дневные 
	встречи про
	ходят разме
	ренно и нет
	оропливо\,
	 погружая 
	вас в атмосферу из
	ысканных светских
	 сексуальных приёмов 
	и раутов!\n\n\n\n	Вечеринка прой
	дёт в четверг 10 сентября 
	с 14:00 до 19:00 в клубе сво
	бодного общения «О2» (мц
	к. Хорошёво\, м. Полежаевск
	ая)\n\n\n\n	Что нас ожид
	ает в этот день:\n- эр
	отическое шоу от гор
	ячих танцовщиц\;\n\n	- ко
	нкурсы и розыгрыши при
	зов\;\n\n	- фуршет с вином
	\, фруктами и закусками\;
	\n\n	- развратная ат
	мосфера!\n\n	- 
	знакомство с нов
	ыми интересными т
	ематическими людьми и м
	ного секса!\n\n\n\n	Стоимость уча
	стия:\n\n	Пары – 4000 руб\;\n\n	Па
	рни – 10000 руб\;\n\n	Девушки
	 – бесплатно.\n\n\n\n
		Дресс код дл
	я мужчин – шлёпанц
	ы и полотенце\, для 
	девушек – эротические наряды.\
	n\n\n\n	Пресс служба проекта SLGS +7 (
	916) 198-15-61 для записи и бр
	онирования мест (звонки еже
	дневно с 12:00 до 0 часов\, whatsapp 
	круглосуточно).\n\n\n\n	Наша группа vk – h
	ttps://vk.com/slgsevents\nНаш канал в телеграмме - ht
	tps://teleg.run/slgsmeetings\nТелеграм чат - https://teleg.run
	/sensualabstraction\n\n\n\n	ПРИМЕРЫ ПОСЕТИТЕЛЬН
	ИЦ\n\n\n\n	\n\n\n\n	ИНТЕРЬЕР КЛУБА\n\n\n\n	\n\n
DTSTART:20200910T110000Z
DTEND:20200909T210000Z
END:VEVENT
END:VCALENDAR
