BEGIN:VCALENDAR
VERSION:2.0
PRODID:-//InvisionCommunity Events 5.0.14//EN
METHOD:PUBLISH
CALSCALE:GREGORIAN
REFRESH-INTERVAL:PT15M
X-PUBLISHED-TTL:PT15M
X-WR-CALNAME:Москва
NAME:Москва
BEGIN:VTIMEZONE
TZID:Europe/London
TZURL:https://tzurl.org/zoneinfo/Europe/London
X-LIC-LOCATION:Europe/London
BEGIN:DAYLIGHT
TZOFFSETFROM:+0000
TZOFFSETTO:+0100
TZNAME:BST
DTSTART:20200329T020000Z
RRULE:FREQ=YEARLY;BYMONTH=3;BYDAY=-1SU
END:DAYLIGHT
BEGIN:STANDARD
TZOFFSETFROM:+0100
TZOFFSETTO:+0000
TZNAME:GMT
DTSTART:20201025T020000Z
RRULE:FREQ=YEARLY;BYMONTH=10;BYDAY=-1SU
END:STANDARD
END:VTIMEZONE
BEGIN:VEVENT
SUMMARY:ДНЕВНОЙ СЕКС ОТРЫВ!
DTSTAMP:20200901T161224Z
SEQUENCE:0
UID:121-2-96ae6e7a6b0199acdc71fa09e19bd6b5@swing-cafe.ru
ORGANIZER;CN="Nymphoman":forum@swing-cafe.ru
DESCRIPTION:\n\n	\n\n\n\n	Пригл
	ашаем люб
	ителей и 
	гурманов на в
	осхитительную
	 и полную эрот
	ических ощуще
	ний вечеринку!\n\
	n	Рады будем ви
	деть симпати
	чные молодые 
	пары\, парне
	й и девушек. 
	Дневные вст
	речи проход
	ят размерен
	но и неторо
	пливо\, пог
	ружая вас в а
	тмосферу изыскан
	ных светских сексу
	альных приёмов и раут
	ов!\n\n\n\n	Вечеринка пройдёт в 
	четверг 3 сентября с 14:00 
	до 19:00 в клубе свобо
	дного общения «О2» (мцк. Х
	орошёво\, м. Полежаевска
	я)\n\n\n\n	В клубе: 2 бо
	льших зала\, при
	ватные комнат
	ы\, отдельные ячейки 
	раздевалки\, душевые\, 
	отдельная курилка и бар
	.\n\n\n\n	Что нас ожидае
	т в этот день:\n- эроти
	ческое шоу от горячих т
	анцовщиц\;\n\n	- конкурсы 
	и розыгрыши призов\;\n\n	- 
	фуршет с вином\, фруктами
	 и закусками\;\n\n	- ра
	звратная атмос
	фера!\n\n	- знак
	омство с новыми ин
	тересными тематичес
	кими людьми и много секса!\n
	\n\n\n	Стоимость участия:\n\n	Пары – 40
	00 руб\;\n\n	Парни – 10000 руб\;\n\n
		Девушки – бесплатн
	о.\n\n\n\n	Дресс код 
	для мужчин – шлё
	панцы и полотенце\
	, для девушек – эр
	отические наряды.\n\n\n\n	Пр
	едварительная запись по телефону
	 +7 (916) 198-15-61\n\n\n\n	Пример посетительни
	ц\n\n\n\n	 \n\n\n\n	Интерьер клуба\n\n\n\n	\n\n
DTSTART:20200903T110000Z
DTEND:20200902T210000Z
END:VEVENT
END:VCALENDAR
