BEGIN:VCALENDAR
VERSION:2.0
PRODID:-//InvisionCommunity Events 5.0.14//EN
METHOD:PUBLISH
CALSCALE:GREGORIAN
REFRESH-INTERVAL:PT15M
X-PUBLISHED-TTL:PT15M
X-WR-CALNAME:Москва
NAME:Москва
BEGIN:VTIMEZONE
TZID:Europe/London
TZURL:https://tzurl.org/zoneinfo/Europe/London
X-LIC-LOCATION:Europe/London
BEGIN:DAYLIGHT
TZOFFSETFROM:+0000
TZOFFSETTO:+0100
TZNAME:BST
DTSTART:20200329T020000Z
RRULE:FREQ=YEARLY;BYMONTH=3;BYDAY=-1SU
END:DAYLIGHT
BEGIN:STANDARD
TZOFFSETFROM:+0100
TZOFFSETTO:+0000
TZNAME:GMT
DTSTART:20201025T020000Z
RRULE:FREQ=YEARLY;BYMONTH=10;BYDAY=-1SU
END:STANDARD
END:VTIMEZONE
BEGIN:VEVENT
SUMMARY:ПРЕКРАСНЫЙ ДНЕВНОЙ СЕКС ОТРЫВ!
DTSTAMP:20200819T162730Z
SEQUENCE:0
UID:117-2-96ae6e7a6b0199acdc71fa09e19bd6b5@swing-cafe.ru
ORGANIZER;CN="Nymphoman":forum@swing-cafe.ru
DESCRIPTION:\n\n	\n\n\n\n	Пригла
	шаем всех 
	любителей
	 и гурмано
	в на замеч
	ательную 
	полную эр
	отических
	 эмоций ве
	черинку крас
	ивых людей! Наш
	и вечеринки по
	сещают симпати
	чные пары\, па
	рни и девуш
	ки\, которы
	е любят ра
	звлекатьс
	я в разли
	чных форм
	атах груп
	пового сек
	са! Яркие при
	меры таких представ
	ительниц вы можете лицезреть на ф
	отках:\n\n\n\n	         \n\n\n\n	   \
	n\n\n\n	Вечеринка пройдёт в четв
	ерг 20 августа с 14:00 до 19
	:00 в клубе свободного 
	общения «О2» (мцк. Хор
	ошёво\, м. Полежаевска
	я)\n\nВ клубе: 2 бо
	льших зала\, при
	ватные комнат
	ы\, отдельные ячейк
	и раздевалки\, душе
	вые\, отдельная кури
	лка и бар.\n\nЧто на
	с ожидает в эт
	от день:\n- конку
	рсы и розыгрыши п
	ризов под руково
	дством новой звез
	ды\;\n\n	- постельная «б
	орьба» с множеством 
	оргазмов в приватах\;\n\n	-
	 фуршет с вином\, фруктам
	и и закусками\;\n\n	- р
	азвратная атмо
	сфера!\n\n	- зна
	комство с новыми и
	нтересными тематич
	ескими людьми и много секса
	!\n\n\n\n	Стоимость участия:\n\n	Пары –
	 4000 руб\;\n\n	Парни – 10000 руб\;\n\
	n	Девушки – бесплат
	но.\n\n\n\n	Дресс код
	 для мужчин – шл
	ёпанцы и полот
	енце\, для дев
	ушек – эротические н
	аряды.\n\nПредварительная запис
	ь по телефону +7 (916) 198-15-61 (Дмитрий)
	\n\n\n\n	Наша группа vk – https://vk.com/s
	lgsevents\nНаш канал в телеграмме - https://tele
	g.run/slgsmeetings\nТелеграм чат - https://teleg.run/sensualab
	straction\n\n\n\n	 \n\n\n\n	\n\n
DTSTART:20200820T110000Z
DTEND:20200819T210000Z
END:VEVENT
END:VCALENDAR
