BEGIN:VCALENDAR
VERSION:2.0
PRODID:-//InvisionCommunity Events 5.0.14//EN
METHOD:PUBLISH
CALSCALE:GREGORIAN
REFRESH-INTERVAL:PT15M
X-PUBLISHED-TTL:PT15M
X-WR-CALNAME:Москва
NAME:Москва
BEGIN:VTIMEZONE
TZID:Europe/London
TZURL:https://tzurl.org/zoneinfo/Europe/London
X-LIC-LOCATION:Europe/London
BEGIN:DAYLIGHT
TZOFFSETFROM:+0000
TZOFFSETTO:+0100
TZNAME:BST
DTSTART:20200329T020000Z
RRULE:FREQ=YEARLY;BYMONTH=3;BYDAY=-1SU
END:DAYLIGHT
BEGIN:STANDARD
TZOFFSETFROM:+0100
TZOFFSETTO:+0000
TZNAME:GMT
DTSTART:20201025T020000Z
RRULE:FREQ=YEARLY;BYMONTH=10;BYDAY=-1SU
END:STANDARD
END:VTIMEZONE
BEGIN:VEVENT
SUMMARY:SEXWIFE BUKKAKE!
DTSTAMP:20200808T200506Z
SEQUENCE:0
UID:115-2-96ae6e7a6b0199acdc71fa09e19bd6b5@swing-cafe.ru
ORGANIZER;CN="Nymphoman":forum@swing-cafe.ru
DESCRIPTION:\n\n	\n\n\n\n	Итак дру
	зья\, мы в
	озвращае
	м формат уже ст
	авших интересн
	ыми эротически
	х развлечений в
	 формате bukkake!
	 Наша учас
	тница прос
	то обожает т
	акой формат!
	 Ей нравитс
	я много прия
	тных симпатичн
	ых мужчин с крепк
	ими и хорошо стоящ
	ими членами!\n\n	П
	риглашаем пар
	ней\, пары и девушек на 
	это эффектное и очень приятное событие.\
	n\n\n\n	\n\n\n\n	\n\n\n\n	Bukkake – это о
	кончание мужчи
	н на грудь\, л
	ицо и на иные части
	 тела девушки после
	 предварительных мин
	етов.\n\n\n\n	Также мы не з
	абудем и про секс п
	о взаимному согла
	сию.\n\n\n\n	Вечерин
	ка пройдёт в кл
	убе свободного обще
	ния «О2» (мцк Хорошёво\, м
	. Полежаевская) в четверг 13 август
	а с 21:00 до 02:00 часов!\n\n\n\n	В кл
	убе есть: большой зал
	\, малый bdsm зал\, ую
	тные приваты\,
	 раздевалка с отд
	ельными ячейками
	\, душевые\, отдель
	ная курилка и бар.\nВ кл
	убе царят комфорт и у
	ют по-домашнему.\n\n\n\n	
	Что нас ожидает
	 в этот замечат
	ельный вечер?\n\n	- э
	ротическая импр
	овизация нашей уча
	стницы\;\n\n	- фуршет (бе
	залкогольные напитки и фру
	кты)\;\n\n	- дискотека и 
	танцы до ночи\;\n\n	- 
	новые интересные 
	знакомства!\n\nСтоимость 
	участия:\n\n	Пары: по предо
	плате – 1500 руб\, на месте 
	при входе – 2000 руб\;\n\n	Па
	рни: по предоплате – 3000 р
	уб\, на месте при входе – 350
	0 руб.\n\n	Девушки – бес
	платно.\n\n\n\n	Пре
	доплату можно с
	делать на карту (
	привязана к номеру те
	лефона) не позднее\, ч
	ем за день до вечер
	инки.\n\n\n\n	На каждой
	 вечеринке всегд
	а есть фейсконтр
	оль.\n\n	Дресс код дл
	я парней банный 
	(шлёпанцы и полотенц
	е (или плавки))\, для 
	девушек эротические
	 наряды.\n\n\n\n	Предварительная запи
	сь по телефону +7 (916) 198-15-61.\n\
	n	Приезжайте\, рады будем видеть!\n
	\n\n\n	Наша группа vk – https://vk.com/slgs
	events\n\n	Наш канал в телеграмме - https://teleg.
	run/slgsmeetings\n\n	Телеграм чат - https://teleg.run/sensuala
	bstraction\n\n\n\n	\n\n
DTSTART:20200813T180000Z
DTEND:20200813T230000Z
END:VEVENT
END:VCALENDAR
