BEGIN:VCALENDAR
VERSION:2.0
PRODID:-//InvisionCommunity Events 5.0.14//EN
METHOD:PUBLISH
CALSCALE:GREGORIAN
REFRESH-INTERVAL:PT15M
X-PUBLISHED-TTL:PT15M
X-WR-CALNAME:Москва
NAME:Москва
BEGIN:VTIMEZONE
TZID:Europe/London
TZURL:https://tzurl.org/zoneinfo/Europe/London
X-LIC-LOCATION:Europe/London
BEGIN:DAYLIGHT
TZOFFSETFROM:+0000
TZOFFSETTO:+0100
TZNAME:BST
DTSTART:20200329T020000Z
RRULE:FREQ=YEARLY;BYMONTH=3;BYDAY=-1SU
END:DAYLIGHT
BEGIN:STANDARD
TZOFFSETFROM:+0100
TZOFFSETTO:+0000
TZNAME:GMT
DTSTART:20201025T020000Z
RRULE:FREQ=YEARLY;BYMONTH=10;BYDAY=-1SU
END:STANDARD
END:VTIMEZONE
BEGIN:VEVENT
SUMMARY:Театр Кирилла Ганина. Спектакль
	 «УЧИТЕЛЬНИЦА»!
DTSTAMP:20200802T180535Z
SEQUENCE:0
UID:114-2-96ae6e7a6b0199acdc71fa09e19bd6b5@swing-cafe.ru
ORGANIZER;CN="Nymphoman":forum@swing-cafe.ru
DESCRIPTION:\n\n	\n\n\n\n	В среду
	 состоится по
	каз нового спект
	акля от Театра 
	Кирилла Ганина
	 \"УЧИТЕЛЬНИЦА
	\". Веселая\,
	 откровенн
	ая интерак
	тивная пье
	са о замеч
	ательных ш
	кольных год
	ах и об учитель
	нице биологии 
	старших класс
	ов. Давайте вспо
	мним\, а что же
	 происходит з
	а закрытыми две
	рями школы. И ч
	ем занимаются н
	а переменах и на у
	роках. Как развлек
	аются и о чем меч
	тают. Чего желают... О пе
	рвой любви и первом секс
	уальном опыте!\n\n\n\n	\
	n\n\n	Наш спектакль нико
	го не оставит равнодушны
	м!\n\nСреда 12 августа.\n\n	Начало
	 спектакля в 20:00\n\n\n\n	ЦЕНА БИЛ
	ЕТОВ:\n1 - Билет 1500 руб
	лей - \"стихийная 
	посадка\". Вы 
	можете занять л
	юбое свободное место
	\, за исключением заброни
	рованных.\n2 - Билет 200
	0 рублей \"резер
	в\" - Данный
	 билет бро
	нирует за вами 
	конкретное место ма
	ксимально приближенное
	 к сцене.\n3 - Билет 3000 р
	ублей \"депозит\
	". Помимо брони
	 места за вами\,
	 билет дает возмож
	ность заказать ед
	у и напитки на сумму в 1
	500 руб без дополните
	льных оплат.\n\n\n\n	Заброниров
	ать билет можно по телефону: +7
	 (916) 198-15-61\n\n	Билеты бронир
	уются оплатой на карту сберба
	нка 5336 6901 6496 2914 (привяза
	на к номеру телеф
	она)\n\n	Спектак
	ль состоится в кл
	убе на м. Менделеевская (адрес сообща
	ется при записи)\n\n\n\n	 \n\n
DTSTART:20200812T170000Z
DTEND:20200811T210000Z
END:VEVENT
END:VCALENDAR
