BEGIN:VCALENDAR
VERSION:2.0
PRODID:-//InvisionCommunity Events 5.0.14//EN
METHOD:PUBLISH
CALSCALE:GREGORIAN
REFRESH-INTERVAL:PT15M
X-PUBLISHED-TTL:PT15M
X-WR-CALNAME:Москва
NAME:Москва
BEGIN:VTIMEZONE
TZID:Europe/London
TZURL:https://tzurl.org/zoneinfo/Europe/London
X-LIC-LOCATION:Europe/London
BEGIN:DAYLIGHT
TZOFFSETFROM:+0000
TZOFFSETTO:+0100
TZNAME:BST
DTSTART:20200329T020000Z
RRULE:FREQ=YEARLY;BYMONTH=3;BYDAY=-1SU
END:DAYLIGHT
BEGIN:STANDARD
TZOFFSETFROM:+0100
TZOFFSETTO:+0000
TZNAME:GMT
DTSTART:20201025T020000Z
RRULE:FREQ=YEARLY;BYMONTH=10;BYDAY=-1SU
END:STANDARD
END:VTIMEZONE
BEGIN:VEVENT
SUMMARY:Театр Кирилл
	а Ганина. Спектакль «ИСТОРИЯ ОДНОГО КОН
	ТАКТА»!
DTSTAMP:20200714T004707Z
SEQUENCE:0
UID:110-2-96ae6e7a6b0199acdc71fa09e19bd6b5@swing-cafe.ru
ORGANIZER;CN="Nymphoman":forum@swing-cafe.ru
DESCRIPTION:\n\n	\n\n\n\n	Искроме
	тная веселая\, 
	чувственная и 
	очень эротичес
	кая комедия\, о 
	жизни мамы и 
	дочки во время
	 сомоизоляции 
	на даче. Дочка разлу
	чена со своим парне
	м\, мама с любовнико
	м. Но!!!! Есть со
	сед по садо
	вому товарищ
	еству! Как же
	 поведут себя
	 истосковавш
	иеся по общен
	ию и по мужски
	м ласкам две же
	нщины. Как отр
	еагирует одинок
	ий сосед. Что н
	ужно сделать\
	, что бы нал
	адить свой досуг и 
	хорошее физическое и эм
	оциональное состояние?
	\n\n\n\n	\n\n\n	Актеры на сцене
	 полностью обнажа
	ются!\n\n\n\n	Новая 
	рассадка зрителей 
	для повышения комфорта и удо
	бства.\n\n\n\n	ЦЕНА БИЛЕТОВ:\n
	1 - Билет 1500 рублей - да
	нный билет \"стих
	ийная посадка\". Т
	о есть\, вы мо
	жете занять любо
	е свободное место\, 
	за исключением заброни
	рованных.\n2 - Билет 200
	0 рублей \"резер
	в\" - Данный
	 билет бро
	нирует за вами 
	конкретное место ма
	ксимально приближенное 
	к сцене.\n3 - Билет 3000 
	рублей \"депози
	т\" - данный би
	лет так же при
	обретается по
	 предоплате. П
	омимо брони ме
	ста за вами\, биле
	т дает возможность 
	заказать еду и нап
	итки на сумму в 1500 р
	уб. по меню заведе
	ния без дополнительн
	ых оплат.\n\n\n\n	Бронирование билетов
	 по телефону +7 (916) 198-15-61
	\n\n	Билеты бронируются оплатой 
	на карту сбербанка 5336 6901 6496
	 2914 (привязана к номе
	ру телефона)\n\n	С
	пектакль сос
	тоится в баре на 
	м. Чистые пруды (адрес 
	сообщается записавшимся)\n\n	Вторн
	ик 21 июля.\n\n	Начало в 20:00.\n\n\n\n	\n\n
DTSTART:20200721T170000Z
DTEND:20200720T210000Z
END:VEVENT
END:VCALENDAR
