BEGIN:VCALENDAR
VERSION:2.0
PRODID:-//InvisionCommunity Events 5.0.14//EN
METHOD:PUBLISH
CALSCALE:GREGORIAN
REFRESH-INTERVAL:PT15M
X-PUBLISHED-TTL:PT15M
X-WR-CALNAME:Москва
NAME:Москва
BEGIN:VTIMEZONE
TZID:Europe/London
TZURL:https://tzurl.org/zoneinfo/Europe/London
X-LIC-LOCATION:Europe/London
BEGIN:DAYLIGHT
TZOFFSETFROM:+0000
TZOFFSETTO:+0100
TZNAME:BST
DTSTART:20200329T020000Z
RRULE:FREQ=YEARLY;BYMONTH=3;BYDAY=-1SU
END:DAYLIGHT
BEGIN:STANDARD
TZOFFSETFROM:+0100
TZOFFSETTO:+0000
TZNAME:GMT
DTSTART:20201025T020000Z
RRULE:FREQ=YEARLY;BYMONTH=10;BYDAY=-1SU
END:STANDARD
END:VTIMEZONE
BEGIN:VEVENT
SUMMARY:ПЛЯЖНАЯ ВЕЧЕРИНКА!
DTSTAMP:20200711T011942Z
SEQUENCE:0
UID:109-2-96ae6e7a6b0199acdc71fa09e19bd6b5@swing-cafe.ru
ORGANIZER;CN="Nymphoman":forum@swing-cafe.ru
DESCRIPTION:\n\n	\n\n\n	Уважа
	емые люби
	тели понежи
	ться под тёп
	лым солнышк
	ом в естест
	венном обн
	ажённом вид
	е\, приглаша
	ем на след
	ующую долго
	жданную пляжн
	ую вечеринку в 
	красивом и ую
	тном природном
	 месте!\n\nВеч
	еринка пр
	ойдёт на ст
	рогинской ко
	се (точное мес
	тоположение отпра
	вляется при записи) (м. 
	Щукинская\, Строгино)\n\n	Воскресень
	е 12 июля\, с 16:00 часов!\n\n\n\n	
	\n\n\n	Рады будем видеть си
	мпатичные пары\, парней 
	и девушек!\n\n\n\n	Что нас ож
	идает:\n- загорание и купани
	е\;\n\n	- дискотека и пл
	яжное веселье\;\n
	\n	- эротический мас
	саж каждой девушке
	 от организатора в под
	арок!\n\n	- секс на пляже 
	по взаимному согласию.\n
	\n\n\n	Что нужно с собо
	й взять:\n- подстилки\,
	 коврики или полот
	енца для загорания\;
	\n\n	- свой алкоголь в 
	разумном количес
	тве\, закуску\, воды\, со
	ки (и остальное на ваше ус
	мотрение)\;\n\n	- средс
	тва контрацепции\;\n\n	
	- отличное настроение
	 и заряд позитива \n\
	n\n\n	Друзья\, м
	ы хотим в
	идеть на н
	ашем пляж
	ном мероп
	риятии инт
	еллигентн
	ых и обход
	ительных л
	юдей. Не до
	пускается н
	авязчивое и н
	екорректное 
	поведение и о
	бщение между 
	гостями. У нас в
	сё по взаимному 
	согласию и симпатии друг 
	другу\, легко и непринуждённо.\n\n\
	n\n	Вход:\n\n	Мужчины – donation от 5
	00 руб\;\n\n	Пары – вход свобо
	дный\;\n\n	Девушки – вход сво
	бодный.\n\n\n\n	Donation
	 – это добровольное
	 пожертвование (или 
	попросту донаты). D
	onation на данном м
	ероприятии огр
	аничен нижним 
	порогом\, но не 
	ограничен верхним.\n\nПредв
	арительная запись по телефону +7 (9
	16) 198-15-61 (Дмитрий)\n\n\n\n
		*возможны 
	корректир
	овки по вр
	емени или
	 отмена меропри
	ятия из за возможных неблагоприятных
	 погодных условий.\n\n
DTSTART:20200712T130000Z
DTEND:20200711T210000Z
END:VEVENT
END:VCALENDAR
