BEGIN:VCALENDAR
VERSION:2.0
PRODID:-//InvisionCommunity Events 5.0.14//EN
METHOD:PUBLISH
CALSCALE:GREGORIAN
REFRESH-INTERVAL:PT15M
X-PUBLISHED-TTL:PT15M
X-WR-CALNAME:Москва
NAME:Москва
BEGIN:VTIMEZONE
TZID:Europe/London
TZURL:https://tzurl.org/zoneinfo/Europe/London
X-LIC-LOCATION:Europe/London
BEGIN:DAYLIGHT
TZOFFSETFROM:+0000
TZOFFSETTO:+0100
TZNAME:BST
DTSTART:20200329T020000Z
RRULE:FREQ=YEARLY;BYMONTH=3;BYDAY=-1SU
END:DAYLIGHT
BEGIN:STANDARD
TZOFFSETFROM:+0100
TZOFFSETTO:+0000
TZNAME:GMT
DTSTART:20201025T020000Z
RRULE:FREQ=YEARLY;BYMONTH=10;BYDAY=-1SU
END:STANDARD
END:VTIMEZONE
BEGIN:VEVENT
SUMMARY:ПРЕМЬЕРА! Sensual Abstraction
	. 17 июня. Эротический сексуальный обряд «
	А У НАС МАСОЧНЫЙ!»
DTSTAMP:20200609T013433Z
SEQUENCE:0
UID:104-2-96ae6e7a6b0199acdc71fa09e19bd6b5@swing-cafe.ru
ORGANIZER;CN="Nymphoman":forum@swing-cafe.ru
DESCRIPTION:\n\n	\n\n\n\n	Друзья\, 
	всем большой и пламенный с
	алют! Проект Sensual Abst
	raction является
	 фаворитом 
	новых очень 
	интересных 
	мероприятий
	\, аналогов 
	которых н
	е существ
	ует. Мы п
	редстав
	ляем сов
	ершенно 
	новое ме
	роприяти
	е формата
	 оргии – эроти
	ческий сексуал
	ьный обряд со с
	ценарным ходом 
	течения!\n\nЧт
	о из себя п
	редставля
	ет такое ме
	роприятие?\
	nСначала под
	вигаемся в конт
	актной импровиза
	ции и получим за
	ряд позитива!\
	n\n	В центре за
	ла клуба мы
	 подготавл
	иваем мягко
	е пространс
	тво\, котор
	ое будет кр
	асиво огоро
	жено свечам
	и и другими
	 ритуальны
	ми элемент
	ами. В этом мес
	те будут прои
	сходить основн
	ые эротические
	 действия!\n\n	
	Вокруг этог
	о места все 
	гости присаж
	иваются круг
	ом или овалом
	. Ведущая зн
	акомиться с 
	гостями\, ко
	торые расс
	казывают о 
	своих эротич
	еских фантазиях
	. Затем пишем сво
	и желания на бу
	мажке и кладём 
	в шляпу\, из к
	оторой они
	 достаются 
	в случайном пор
	ядке. Фантазии н
	аших гостей реал
	изуются в центре
	 круга!\n\n	Все г
	ости садятся
	 в масках вокр
	уг обрядового 
	круга. Когда гостей пр
	иглашают в центр круга\, они снимают
	 маску.\n\n\n\n	\n\n\n\n	\n\n\n\n
		Мероприя
	тие ведёт
	 мастер к
	онтактной 
	импровизации\,
	 инструктор эротич
	еских эзотерических
	 практик - Кирочка!\n
	\n\n\n	Встреча пройд
	ёт в клубе сво
	бодного общения 
	(мцк. Хорошёво) (адре
	с сообщается только записавшимс
	я)\n\n	Среда 17 июня\, с 20:00 до 00:0
	0 (возможно продление до 01:00 ч
	аса)\n\n\n\n	В клубе есть: 
	2 зала\, 3 комфортн
	ые привата\, раздева
	лка\, душевые\, отдель
	ная курилка и бар.\n\
	nЧто нас ожидает на
	 встрече:\n- совер
	шенно новые\, 
	яркие\, позитивные
	 и неведомые вами
	 ранее эмоции и 
	впечатления!\n\n	- зн
	акомство с интер
	есными тематическими
	 людьми\;\n\n	- много секса 
	по взаимной симпатии!
	\n\nДресс код:\n\n	- п
	арни: одноразовые 
	трусы и медицинские 
	маски (всё выдаётся 
	при входе)\;\n\n	- де
	вушки: однора
	зовые трусы и 
	медицинские маски
	\, а также эротические
	 наряды (чулочки или колго
	тки).\n\n\n\n	Стоимость участия
	:\n\n	Пары: по предоплате – 2000 р
	уб\, по факту на входе – 2500 р
	уб\;\n\n	Парни: по предоплате –
	 4000 руб\, по факту на входе – 50
	00 руб\;\n\n	Девушки – бе
	сплатно.\n\n\n\n	Предоплату 
	можно сделать на карту сберба
	нка 5336 6901 6496 2914 не позднее\, 
	чем за день до мероп
	риятия.\n\n\n\n	В сто
	имость включен мин
	и-фуршет из фрукто
	в\, соков и минералки.\
	n\n	А также одноразов
	ые шлёпанцы и пол
	отенце.\n\n\n\n	К
	оличество
	 мест ограниче
	но! Записывайтесь
	 и бронируйте мест
	а пожалуйста заранее.\n\n
	\n\n	Предварительная запись по телеф
	ону +7 (916) 198-15-61 (Дмитрий).\n\n\n\n	Наша гру
	ппа vk – https://vk.com/slgsevents\nНаш канал 
	в телеграмме - https://teleg.run/slgsmeetings\nТ
	елеграм чат - https://teleg.run/sensualabstraction\n\n\n\n	 \
	n\n\n\n	\n\n
DTSTART:20200617T170000Z
DTEND:20200616T210000Z
END:VEVENT
END:VCALENDAR
